BEGIN:VCALENDAR
VERSION:2.0
PRODID:-//evangelische-termine.de//NONSGML kigkonsult.se iCalcreator 2.18//
CALSCALE:GREGORIAN
METHOD:PUBLISH
X-WR-CALNAME:iCal Evangelische-Termine 20.04.2026
X-WR-CALDESC:iCalender von Evangelische-Termine (20.04.2026)
X-WR-TIMEZONE:Europe/Berlin
X-MS-OLK-FORCEINSPECTOROPEN:TRUE
BEGIN:VTIMEZONE
TZID:Europe/Berlin
BEGIN:STANDARD
DTSTART:19701025T030000
TZOFFSETFROM:+0200
TZOFFSETTO:+0100
RRULE:FREQ=YEARLY;BYDAY=-1SU;BYMONTH=10
TZNAME:CET
END:STANDARD
BEGIN:DAYLIGHT
DTSTART:19700329T020000
TZOFFSETFROM:+0100
TZOFFSETTO:+0200
RRULE:FREQ=YEARLY;BYDAY=-1SU;BYMONTH=3
TZNAME:CEST
END:DAYLIGHT
END:VTIMEZONE
BEGIN:VEVENT
UID:20240921T093000-815102@evangelische-termine.de
DTSTAMP:20260420T000829Z
DESCRIPTION:\nKirchenkreis: überregional\nArt der Veranstaltung: Fortbildun
 gen / Seminare / Vorträge\nVeranstaltungsort: Ev. Erwachsenenbildungswerk 
 Rheinland-Süd e.V.\, Simmern\nHerzog-Reichard-Str. 30\n55469 Simmern\nKurz
 beschreibung / Untertitel: Ihre Stimme zählt – machen Sie sie hörbar! In d
 iesem Workshop für Frauen lernen Sie\, wie Sie Ihre Anliegen wirkungsvoll 
 und selbstbewusst kommunizieren können. - Dr. Marion Krames\nAusführliche 
 Beschreibung: Wie lassen sich Körpersprache und Stimme effektiv einsetzen 
 und Gedanken und Meinungen sprachlich klar und überzeugend vermitteln? Wel
 che abschwächenden Formulierungen sollten besser vermieden werden\, wenn B
 otschaften ankommen sollen? Damit beschäftigen wir uns in diesem interakti
 ven Workshop. Auch werden wir gemeinsam Strategien erkunden\, um souverän 
 mit herausfordernden Kommunikationssituationen umzugehen (z. B. Dominanzve
 rhalten oder verbalen Angriffen). Nicht zuletzt wird es darum gehen\, bewä
 hrte Techniken zur Überwindung von Lampenfieber kennenzulernen und anzuwen
 den. \nEin Workshop für Frauen im Beruf\, im Ehrenamt oder in einer Orient
 ierungsphase\, die ihre Anliegen im öffentlichen\, beruflichen oder privat
 en Raum mit Selbstbewusstsein und Sicherheit kommunizieren möchten.\nFörde
 rbereich: Schlüsselqualifikationen mit den Komponenten Sprachen und Medien
 \nReferent/in: Dr. Marion Krames\nAnsprechpartner/in - Leitung: Dr. Marion
  Krames\nKosten: 85\,– €\nZusatzinformationen: Anmeldung bis 28.03.2025\n:
  
DTSTART;TZID=Europe/Berlin:20240921T093000
DTEND;TZID=Europe/Berlin:20240921T170000
LOCATION:Simmern: Ev. Erwachsenenbildungswerk Rheinland-Süd e.V.\, Simmern
SUMMARY:Souverän und sicher: Eigene Anliegen und Meinungen überzeugend komm
 unizieren :: Ihre Stimme zählt - machen Sie sie hörbar!
URL:https://termine.ekir.de/veranstaltung_im_detail815102.html
END:VEVENT
END:VCALENDAR
