BEGIN:VCALENDAR
VERSION:2.0
PRODID:-//evangelische-termine.de//NONSGML kigkonsult.se iCalcreator 2.18//
CALSCALE:GREGORIAN
METHOD:PUBLISH
X-WR-CALNAME:iCal Evangelische-Termine 20.04.2026
X-WR-CALDESC:iCalender von Evangelische-Termine (20.04.2026)
X-WR-TIMEZONE:Europe/Berlin
X-MS-OLK-FORCEINSPECTOROPEN:TRUE
BEGIN:VTIMEZONE
TZID:Europe/Berlin
BEGIN:STANDARD
DTSTART:19701025T030000
TZOFFSETFROM:+0200
TZOFFSETTO:+0100
RRULE:FREQ=YEARLY;BYDAY=-1SU;BYMONTH=10
TZNAME:CET
END:STANDARD
BEGIN:DAYLIGHT
DTSTART:19700329T020000
TZOFFSETFROM:+0100
TZOFFSETTO:+0200
RRULE:FREQ=YEARLY;BYDAY=-1SU;BYMONTH=3
TZNAME:CEST
END:DAYLIGHT
END:VTIMEZONE
BEGIN:VEVENT
UID:20240422T090000-815817@evangelische-termine.de
DTSTAMP:20260419T223905Z
DESCRIPTION:\nKirchenkreis: überregional\nArt der Veranstaltung: Fortbildun
 gen / Seminare / Vorträge\nVeranstaltungsort: online\n- -\nKurzbeschreibun
 g / Untertitel: Vertiefende Hinweise zu den einzelnen Funktionen und Modul
 en der Meldewesendatenbank Mewis-NT\nAusführliche Beschreibung: In diesem 
  Online-Seminar erhalten Sie weiterführende Hinweise zu den einzelnen Funk
 tionen und Module der Meldewesendatenbank Mewis-NT. Neben Tipps und Tricks
  wird auch der kollegiale Austausch eine wichtige Rolle spielen.\nFörderbe
 reich: Arbeitswelt- und berufsbezogene Weiterbildung\nReferent/in: Kirsten
  Arnswald\, Pfarrerin\, Leiterin des eeb\nAnsprechpartner/in - Leitung: Ki
 rsten Arnswald\, karnswald@eeb-sued.de\n06761 7019\nKosten: 50\,00 €\nZusa
 tzinformationen: Anmeldung bis 08.07.2024\nNach Anmeldeschluss erhalten Si
 e einen Zugangslink per Mail.\n: \nAnsprechpartner: Kirsten Arnswald karns
 wald@eeb-sued.de\n06761/7019
DTSTART;TZID=Europe/Berlin:20240422T090000
DTEND;TZID=Europe/Berlin:20240422T130000
LOCATION:-: online
SUMMARY:MEWIS-NT für Fortgeschrittene
URL:https://termine.ekir.de/veranstaltung_im_detail815817.html
END:VEVENT
END:VCALENDAR
