BEGIN:VCALENDAR
VERSION:2.0
PRODID:-//evangelische-termine.de//NONSGML kigkonsult.se iCalcreator 2.18//
CALSCALE:GREGORIAN
METHOD:PUBLISH
X-WR-CALNAME:iCal Evangelische-Termine 19.04.2026
X-WR-CALDESC:iCalender von Evangelische-Termine (19.04.2026)
X-WR-TIMEZONE:Europe/Berlin
X-MS-OLK-FORCEINSPECTOROPEN:TRUE
BEGIN:VTIMEZONE
TZID:Europe/Berlin
BEGIN:STANDARD
DTSTART:19701025T030000
TZOFFSETFROM:+0200
TZOFFSETTO:+0100
RRULE:FREQ=YEARLY;BYDAY=-1SU;BYMONTH=10
TZNAME:CET
END:STANDARD
BEGIN:DAYLIGHT
DTSTART:19700329T020000
TZOFFSETFROM:+0100
TZOFFSETTO:+0200
RRULE:FREQ=YEARLY;BYDAY=-1SU;BYMONTH=3
TZNAME:CEST
END:DAYLIGHT
END:VTIMEZONE
BEGIN:VEVENT
UID:20230308T090000-816262@evangelische-termine.de
DTSTAMP:20260419T160756Z
DESCRIPTION:\nKirchenkreis: überregional\nArt der Veranstaltung: Fortbildun
 gen / Seminare / Vorträge\nKurzbeschreibung / Untertitel: Einführung in de
 r Funktionen von MS-Excel\nAusführliche Beschreibung: Das Microsoft-Office
  – Programm Excel kann dazu beitragen\, Büroarbeiten zu vereinfachen und z
 u beschleunigen. Als Tabellenkalkulationsprogramm ist es vor allem für Ber
 echnungen sehr hilfreich. Es kann Tabellen übersichtlicher darstellen als 
 Schreibprogramme und daraus anschauliche Grafiken erstellen. Außerdem könn
 en darin erstellte Adressdateien für den Seriendruck verwendet werden.\nIn
  diesem Seminar werden Grundfunktionen von Excel erläutert\, die nicht nur
  für Verwaltungstätigkeiten\, sondern auch für alltägliche Aufgaben intere
 ssant und von Nutzen sein können.\nVoraussetzung ist der einigermaßen sich
 ere Umgang mit Maus und Tastatur sowie Grundkenntnisse im Umgang mit dem B
 etriebssystem Windows.\nInternetadresse (eigene Infos im Internet): http:/
 /www.eeb-sued.de\nFörderbereich: Arbeitswelt- und berufsbezogene Weiterbil
 dung\nReferent/in: Kirsten Arnswald\nAnsprechpartner/in - Leitung: Kirsten
  Arnswald\nKosten: 50\,00 €\nZusatzinformationen: bis 1.3.2022 anmeldung@e
 eb-sued.de\n: \nAnsprechpartner: Kirsten Arnswald karnswald@eeb-sued.de\n0
 6761/7019
DTSTART;TZID=Europe/Berlin:20230308T090000
DTEND;TZID=Europe/Berlin:20230308T130000
LOCATION:Internet: nur Internet
SUMMARY:Grundlagenkurs MS-Excel - Kopie :: Einführung in der Funktionen von
  MS-Excel
URL:https://termine.ekir.de/veranstaltung_im_detail816262.html
END:VEVENT
END:VCALENDAR
