BEGIN:VCALENDAR
VERSION:2.0
PRODID:-//evangelische-termine.de//NONSGML kigkonsult.se iCalcreator 2.18//
CALSCALE:GREGORIAN
METHOD:PUBLISH
X-WR-CALNAME:iCal Evangelische-Termine 20.04.2026
X-WR-CALDESC:iCalender von Evangelische-Termine (20.04.2026)
X-WR-TIMEZONE:Europe/Berlin
X-MS-OLK-FORCEINSPECTOROPEN:TRUE
BEGIN:VTIMEZONE
TZID:Europe/Berlin
BEGIN:STANDARD
DTSTART:19701025T030000
TZOFFSETFROM:+0200
TZOFFSETTO:+0100
RRULE:FREQ=YEARLY;BYDAY=-1SU;BYMONTH=10
TZNAME:CET
END:STANDARD
BEGIN:DAYLIGHT
DTSTART:19700329T020000
TZOFFSETFROM:+0100
TZOFFSETTO:+0200
RRULE:FREQ=YEARLY;BYDAY=-1SU;BYMONTH=3
TZNAME:CEST
END:DAYLIGHT
END:VTIMEZONE
BEGIN:VEVENT
UID:20240703T080000-816279@evangelische-termine.de
DTSTAMP:20260419T223912Z
DESCRIPTION:\nKirchenkreis: Simmern-Trarbach\nArt der Veranstaltung: Fortbi
 ldungen / Seminare / Vorträge\nVeranstaltungsort: Cafè Freiraum\, Rheinböl
 len\nAm Guldenbach 60\n55494 Rheinböllen\nKurzbeschreibung / Untertitel: A
 lphabetisierungs- und Grundbildungskurs | Einführungskurs I – 24-I-RH-2\nA
 usführliche Beschreibung: Vielen Menschen fällt das Lesen und Schreiben vo
 n alltäglichen Texten schwer. Sie können sich so oftmals nicht selbst mitt
 eilen oder notwendige Informationen erkennen und erhalten. \nIn diesem Kur
 s wird abgestimmt auf den individuellen Lernstand die deutsche Schriftspra
 che mithilfe von alltäglichen Schreibanlässen und vielen Materialien aus d
 em Leben erarbeitet und gefestigt.\nInternetadresse (eigene Infos im Inter
 net): https://eeb-sued.de/projekte/alphabetisierungskurse-und-unterstuetzu
 ngsmassnahmen/\nFörderbereich: Kompensatorische Grundbildung\nReferent/in:
  Alexandra Wust\nAnsprechpartner/in - Leitung: Alexandra Wust\nKosten: kos
 tenlos\nZusatzinformationen: Der Kurs findet immer mittwochs von 8.00 bis 
 12.30 Uhr statt. Anmeldung ist jederzeit möglich bei Alexandra Wust unter 
 Tel. 06761 970342 oder unter swust@eeb-sued.de\nKursnummer: 24-I-RH-2\n: 
 \nAnsprechpartner: Alexandra Wust swust@eeb-sued.de\n06761/7018
DTSTART;TZID=Europe/Berlin:20240703T080000
DTEND;TZID=Europe/Berlin:20240703T123000
LOCATION:Rheinböllen: Cafè Freiraum\, Rheinböllen
SUMMARY:Deutsch lesen und schreiben lernen für den Alltag | Einführungskurs
  I - 24-I-RH-2 :: Alphabetisierungs- und Grundbildungskurs
URL:https://termine.ekir.de/veranstaltung_im_detail816279.html
END:VEVENT
END:VCALENDAR
