BEGIN:VCALENDAR
VERSION:2.0
PRODID:-//evangelische-termine.de//NONSGML kigkonsult.se iCalcreator 2.18//
CALSCALE:GREGORIAN
METHOD:PUBLISH
X-WR-CALNAME:iCal Evangelische-Termine 20.04.2026
X-WR-CALDESC:iCalender von Evangelische-Termine (20.04.2026)
X-WR-TIMEZONE:Europe/Berlin
X-MS-OLK-FORCEINSPECTOROPEN:TRUE
BEGIN:VTIMEZONE
TZID:Europe/Berlin
BEGIN:STANDARD
DTSTART:19701025T030000
TZOFFSETFROM:+0200
TZOFFSETTO:+0100
RRULE:FREQ=YEARLY;BYDAY=-1SU;BYMONTH=10
TZNAME:CET
END:STANDARD
BEGIN:DAYLIGHT
DTSTART:19700329T020000
TZOFFSETFROM:+0100
TZOFFSETTO:+0200
RRULE:FREQ=YEARLY;BYDAY=-1SU;BYMONTH=3
TZNAME:CEST
END:DAYLIGHT
END:VTIMEZONE
BEGIN:VEVENT
UID:20240704T080000-816283@evangelische-termine.de
DTSTAMP:20260420T002254Z
DESCRIPTION:\nKirchenkreis: Simmern-Trarbach\nArt der Veranstaltung: Fortbi
 ldungen / Seminare / Vorträge\nVeranstaltungsort: Caféterra – Kastellaun\n
 Kirchstraße 9\n56288 Kastellaun\nKurzbeschreibung / Untertitel: Kurse für 
 Einsteiger:innen. Alphabetisierungs- und Grundbildungskurs\nAusführliche B
 eschreibung: Vielen Menschen fällt das Lesen und Schreiben von alltägliche
 n Texten schwer. Sie können sich so oftmals nicht selbst mitteilen oder no
 twendige Informationen erkennen und erhalten. \nIn diesem Kurs wird abgest
 immt auf den individuellen Lernstand die deutsche Schriftsprache mithilfe 
 von alltäglichen Schreibanlässen und vielen Materialien aus dem Leben erar
 beitet und gefestigt.\nInternetadresse (eigene Infos im Internet): https:/
 /eeb-sued.de/projekte/alphabetisierungskurse-und-unterstuetzungsmassnahmen
 /\nFörderbereich: Kompensatorische Grundbildung\nReferent/in: Alexandra Wu
 st\nAnsprechpartner/in - Leitung: Alexandra Wust\nKosten: kostenlos\nZusat
 zinformationen: Der Kurs findet jeweils donnerstags von 8.00 bis 12.30 Uhr
  statt\nAnmeldung ist jederzeit möglich bei Alexandra Wust unter Tel. 0676
 1 970342 oder unter swust@eeb-sued.de\nKursnummer: 24-I-KA-1\n: \nAnsprech
 partner: Alexandra Wust swust@eeb-sued.de\n06761/7018
DTSTART;TZID=Europe/Berlin:20240704T080000
DTEND;TZID=Europe/Berlin:20241219T123000
LOCATION:Kastellaun: Caféterra – Kastellaun
SUMMARY:Deutsch lesen und schreiben lernen für den Alltag | Einführungskurs
  I - 24-I-KA-1 :: Alphabetisierungs- und Grundbildungskurs
URL:https://termine.ekir.de/veranstaltung_im_detail816283.html
END:VEVENT
END:VCALENDAR
