BEGIN:VCALENDAR
VERSION:2.0
PRODID:-//evangelische-termine.de//NONSGML kigkonsult.se iCalcreator 2.18//
CALSCALE:GREGORIAN
METHOD:PUBLISH
X-WR-CALNAME:iCal Evangelische-Termine 20.04.2026
X-WR-CALDESC:iCalender von Evangelische-Termine (20.04.2026)
X-WR-TIMEZONE:Europe/Berlin
X-MS-OLK-FORCEINSPECTOROPEN:TRUE
BEGIN:VTIMEZONE
TZID:Europe/Berlin
BEGIN:STANDARD
DTSTART:19701025T030000
TZOFFSETFROM:+0200
TZOFFSETTO:+0100
RRULE:FREQ=YEARLY;BYDAY=-1SU;BYMONTH=10
TZNAME:CET
END:STANDARD
BEGIN:DAYLIGHT
DTSTART:19700329T020000
TZOFFSETFROM:+0100
TZOFFSETTO:+0200
RRULE:FREQ=YEARLY;BYDAY=-1SU;BYMONTH=3
TZNAME:CEST
END:DAYLIGHT
END:VTIMEZONE
BEGIN:VEVENT
UID:20240702T090000-816285@evangelische-termine.de
DTSTAMP:20260419T223753Z
DESCRIPTION:\nKirchenkreis: Simmern-Trarbach\nArt der Veranstaltung: Fortbi
 ldungen / Seminare / Vorträge\nVeranstaltungsort: Ev. Erwachsenenbildungsw
 erk Rheinland-Süd e.V.\, Simmern\nHerzog-Reichard-Str. 30\n55469 Simmern\n
 Kurzbeschreibung / Untertitel: Kurse für Einsteiger:innen. Alphabetisierun
 gs- und Grundbildungskurs\nAusführliche Beschreibung: Vielen Menschen fäll
 t das Lesen und Schreiben von alltäglichen Texten schwer. Sie können sich 
 so oftmals nicht selbst mitteilen oder notwendige Informationen erkennen u
 nd erhalten. \nIn diesem Kurs wird abgestimmt auf den individuellen Lernst
 and die deutsche Schriftsprache mithilfe von alltäglichen Schreibanlässen 
 und vielen Materialien aus dem Leben erarbeitet und gefestigt.\nInternetad
 resse (eigene Infos im Internet): https://eeb-sued.de/projekte/alphabetisi
 erungskurse-und-unterstuetzungsmassnahmen/\nFörderbereich: Kompensatorisch
 e Grundbildung\nReferent/in: Bettina Kiel\nAnsprechpartner/in - Leitung: A
 lexandra Wust\nKosten: kostenlos\nZusatzinformationen: Der Kurs findet jew
 eils dienstags und mittwochs von 9.00 bis 11.15 Uhr statt\nAnmeldung ist j
 ederzeit möglich bei Alexandra Wust\, Tel. 06761 970342 oder swust@eeb-sue
 d.de oder direkt bei der Referentin\, Tel. 0176 55143803\nKursnummer: 24-I
 -SI-2\n: \nAnsprechpartner: Alexandra Wust swust@eeb-sued.de\n06761/7018
DTSTART;TZID=Europe/Berlin:20240702T090000
DTEND;TZID=Europe/Berlin:20241218T111500
LOCATION:Simmern: Ev. Erwachsenenbildungswerk Rheinland-Süd e.V.\, Simmern
SUMMARY:Deutsch lesen und schreiben lernen für den Alltag | Einführungskurs
  I - 24-I-SI-2 :: ESF Alphabetisierungs- und Grundbildungskurs - Kurstyp I
URL:https://termine.ekir.de/veranstaltung_im_detail816285.html
END:VEVENT
END:VCALENDAR
