BEGIN:VCALENDAR
VERSION:2.0
PRODID:-//evangelische-termine.de//NONSGML kigkonsult.se iCalcreator 2.18//
CALSCALE:GREGORIAN
METHOD:PUBLISH
X-WR-CALNAME:iCal Evangelische-Termine 20.04.2026
X-WR-CALDESC:iCalender von Evangelische-Termine (20.04.2026)
X-WR-TIMEZONE:Europe/Berlin
X-MS-OLK-FORCEINSPECTOROPEN:TRUE
BEGIN:VTIMEZONE
TZID:Europe/Berlin
BEGIN:STANDARD
DTSTART:19701025T030000
TZOFFSETFROM:+0200
TZOFFSETTO:+0100
RRULE:FREQ=YEARLY;BYDAY=-1SU;BYMONTH=10
TZNAME:CET
END:STANDARD
BEGIN:DAYLIGHT
DTSTART:19700329T020000
TZOFFSETFROM:+0100
TZOFFSETTO:+0200
RRULE:FREQ=YEARLY;BYDAY=-1SU;BYMONTH=3
TZNAME:CEST
END:DAYLIGHT
END:VTIMEZONE
BEGIN:VEVENT
UID:20240701T090000-816291@evangelische-termine.de
DTSTAMP:20260419T225158Z
DESCRIPTION:\nKirchenkreis: Simmern-Trarbach\nArt der Veranstaltung: Fortbi
 ldungen / Seminare / Vorträge\nVeranstaltungsort: Ev. Gemeindehaus Büchenb
 euren\nHauptstraße 83\n55491 Büchenbeuren\nKurzbeschreibung / Untertitel: 
 ESF Alphabetisierungs- und Grundbildungskurs - Kurstyp II\nAusführliche Be
 schreibung: Vielen Menschen fällt das Lesen und Schreiben von alltäglichen
  Texten schwer. Sie können sich so oftmals nicht selbst mitteilen oder not
 wendige Informationen erkennen und erhalten. \nIn diesem Kurs wird abgesti
 mmt auf den individuellen Lernstand die deutsche Schriftsprache mithilfe v
 on alltäglichen Schreibanlässen und vielen Materialien aus dem Leben erarb
 eitet und gefestigt.\nInternetadresse (eigene Infos im Internet): https://
 eeb-sued.de/projekte/alphabetisierungskurse-und-unterstuetzungsmassnahmen/
 \nFörderbereich: Kompensatorische Grundbildung\nReferent/in: Oxana Traudt
 \nAnsprechpartner/in - Leitung: Alexandra Wust\nKosten: kostenlos\nZusatzi
 nformationen: Der Kurs findet jeweils montags von 16.30 bis 18.45 Uhr und 
 donnerstags 17.00 bis 19.15 Uhr statt\nAnmeldung ist jederzeit möglich bei
  Alexandra Wust\, Tel. 06761 970342 oder swust@eeb-sued.de oder direkt bei
  der Referentin\, Tel. 01514 1404473\nKursnummer: 24-II-BB-2\n: \nAnsprech
 partner: Alexandra Wust swust@eeb-sued.de\n06761/7018
DTSTART;TZID=Europe/Berlin:20240701T090000
DTEND;TZID=Europe/Berlin:20241219T111500
LOCATION:Büchenbeuren: Ev. Gemeindehaus Büchenbeuren
SUMMARY:Deutsch lesen und schreiben lernen für den Alltag | Fortgeschritten
 e II - 24-II-BB-2 :: ESF Alphabetisierungs- und Grundbildungskurs - Kursty
 p II
URL:https://termine.ekir.de/veranstaltung_im_detail816291.html
END:VEVENT
END:VCALENDAR
