BEGIN:VCALENDAR
VERSION:2.0
PRODID:-//evangelische-termine.de//NONSGML kigkonsult.se iCalcreator 2.18//
CALSCALE:GREGORIAN
METHOD:PUBLISH
X-WR-CALNAME:iCal Evangelische-Termine 20.04.2026
X-WR-CALDESC:iCalender von Evangelische-Termine (20.04.2026)
X-WR-TIMEZONE:Europe/Berlin
X-MS-OLK-FORCEINSPECTOROPEN:TRUE
BEGIN:VTIMEZONE
TZID:Europe/Berlin
BEGIN:STANDARD
DTSTART:19701025T030000
TZOFFSETFROM:+0200
TZOFFSETTO:+0100
RRULE:FREQ=YEARLY;BYDAY=-1SU;BYMONTH=10
TZNAME:CET
END:STANDARD
BEGIN:DAYLIGHT
DTSTART:19700329T020000
TZOFFSETFROM:+0100
TZOFFSETTO:+0200
RRULE:FREQ=YEARLY;BYDAY=-1SU;BYMONTH=3
TZNAME:CEST
END:DAYLIGHT
END:VTIMEZONE
BEGIN:VEVENT
UID:20240604T140000-816431@evangelische-termine.de
DTSTAMP:20260419T223958Z
DESCRIPTION:\nKirchenkreis: An Nahe und Glan\nArt der Veranstaltung: Fortbi
 ldungen / Seminare / Vorträge\nVeranstaltungsort: Lernzentrum am Turm Bad 
 Kreuznach\nWassersümpfchen 23\n55543 Bad Kreuznach\nKurzbeschreibung / Unt
 ertitel: ESF Alphabetisierungs- und Grundbildungskurs - Kurstyp II\nAusfüh
 rliche Beschreibung: Vielen Menschen fällt das Lesen und Schreiben von all
 täglichen Texten schwer. Sie können sich so oftmals nicht selbst mitteilen
  oder notwendige Informationen erkennen und erhalten. \nIn diesem Kurs wir
 d abgestimmt auf den individuellen Lernstand die deutsche Schriftsprache m
 ithilfe von alltäglichen Schreibanlässen und vielen Materialien aus dem Le
 ben erarbeitet und gefestigt.\nInternetadresse (eigene Infos im Internet):
  https://eeb-sued.de/projekte/alphabetisierungskurse-und-unterstuetzungsma
 ssnahmen/\nFörderbereich: Kompensatorische Grundbildung\nReferent/in: Nata
 lia Grünnagel\nAnsprechpartner/in - Leitung: Alexandra Wust\nKosten: koste
 nlos\nZusatzinformationen: Der Kurs findet jeweils montags und donnerstags
  14.00 Uhr bis 16.15 Uhr\nAnmeldung ist jederzeit möglich bei der Referent
 in unter 0172 3088183 oder  unter swust@eeb-sued.de\nKursnummer: 24-II-KH-
 1\n: \nAnsprechpartner: Alexandra Wust swust@eeb-sued.de\n06761/7018
DTSTART;TZID=Europe/Berlin:20240604T140000
DTEND;TZID=Europe/Berlin:20240604T161500
LOCATION:Bad Kreuznach: Lernzentrum am Turm Bad Kreuznach
SUMMARY:Deutsch lesen und schreiben lernen für den Alltag | Fortgeschritten
 e II - 24-II-KH-1 :: ESF Alphabetisierungs- und Grundbildungskurs - Kursty
 p II
URL:https://termine.ekir.de/veranstaltung_im_detail816431.html
END:VEVENT
END:VCALENDAR
