BEGIN:VCALENDAR
VERSION:2.0
PRODID:-//evangelische-termine.de//NONSGML kigkonsult.se iCalcreator 2.18//
CALSCALE:GREGORIAN
METHOD:PUBLISH
X-WR-CALNAME:iCal Evangelische-Termine 20.04.2026
X-WR-CALDESC:iCalender von Evangelische-Termine (20.04.2026)
X-WR-TIMEZONE:Europe/Berlin
X-MS-OLK-FORCEINSPECTOROPEN:TRUE
BEGIN:VTIMEZONE
TZID:Europe/Berlin
BEGIN:STANDARD
DTSTART:19701025T030000
TZOFFSETFROM:+0200
TZOFFSETTO:+0100
RRULE:FREQ=YEARLY;BYDAY=-1SU;BYMONTH=10
TZNAME:CET
END:STANDARD
BEGIN:DAYLIGHT
DTSTART:19700329T020000
TZOFFSETFROM:+0100
TZOFFSETTO:+0200
RRULE:FREQ=YEARLY;BYDAY=-1SU;BYMONTH=3
TZNAME:CEST
END:DAYLIGHT
END:VTIMEZONE
BEGIN:VEVENT
UID:20240703T140000-816435@evangelische-termine.de
DTSTAMP:20260419T223844Z
DESCRIPTION:\nKirchenkreis: An Nahe und Glan\nArt der Veranstaltung: Fortbi
 ldungen / Seminare / Vorträge\nVeranstaltungsort: Café Mosaik Kirchberg\nK
 appeler Straße 3\n55481 Kirchberg\nKurzbeschreibung / Untertitel: ESF Alph
 abetisierungs- und Grundbildungskurs - Kurstyp II\nAusführliche Beschreibu
 ng: Vielen Menschen fällt das Lesen und Schreiben von alltäglichen Texten 
 schwer. Sie können sich so oftmals nicht selbst mitteilen oder notwendige 
 Informationen erkennen und erhalten. \nIn diesem Kurs wird abgestimmt auf 
 den individuellen Lernstand die deutsche Schriftsprache mithilfe von alltä
 glichen Schreibanlässen und vielen Materialien aus dem Leben erarbeitet un
 d gefestigt.\nInternetadresse (eigene Infos im Internet): https://eeb-sued
 .de/projekte/alphabetisierungskurse-und-unterstuetzungsmassnahmen/\nFörder
 bereich: Kompensatorische Grundbildung\nReferent/in: Oxana Traudt\nAnsprec
 hpartner/in - Leitung: Alexandra Wust\nKosten: kostenlos\nZusatzinformatio
 nen: Der Kurs findet jeweils mittwochs von 18.00 bis 20.15 Uhr und freitag
 s 18.00 bis 20.15 Uhr statt.\nAnmeldung ist jederzeit möglich bei Alexandr
 a Wust unter 06761 970342 oder unter swust@eeb-sued.de oder bei der Refere
 ntin unter Tel:. 01514 1404473\nKursnummer: 24-II-KB-2\n: \nAnsprechpartne
 r: Alexandra Wust swust@eeb-sued.de\n06761/7018
DTSTART;TZID=Europe/Berlin:20240703T140000
DTEND;TZID=Europe/Berlin:20241218T161500
LOCATION:Kirchberg: Café Mosaik Kirchberg
SUMMARY:Deutsch lesen und schreiben lernen für den Alltag | Fortgeschritten
 e II - 24-II-KB-2 :: ESF Alphabetisierungs- und Grundbildungskurs - Kursty
 p II
URL:https://termine.ekir.de/veranstaltung_im_detail816435.html
END:VEVENT
END:VCALENDAR
