BEGIN:VCALENDAR
VERSION:2.0
PRODID:-//evangelische-termine.de//NONSGML kigkonsult.se iCalcreator 2.18//
CALSCALE:GREGORIAN
METHOD:PUBLISH
X-WR-CALNAME:iCal Evangelische-Termine 19.04.2026
X-WR-CALDESC:iCalender von Evangelische-Termine (19.04.2026)
X-WR-TIMEZONE:Europe/Berlin
X-MS-OLK-FORCEINSPECTOROPEN:TRUE
BEGIN:VTIMEZONE
TZID:Europe/Berlin
BEGIN:STANDARD
DTSTART:19701025T030000
TZOFFSETFROM:+0200
TZOFFSETTO:+0100
RRULE:FREQ=YEARLY;BYDAY=-1SU;BYMONTH=10
TZNAME:CET
END:STANDARD
BEGIN:DAYLIGHT
DTSTART:19700329T020000
TZOFFSETFROM:+0100
TZOFFSETTO:+0200
RRULE:FREQ=YEARLY;BYDAY=-1SU;BYMONTH=3
TZNAME:CEST
END:DAYLIGHT
END:VTIMEZONE
BEGIN:VEVENT
UID:20240304T090000-816454@evangelische-termine.de
DTSTAMP:20260419T204856Z
DESCRIPTION:\nKirchenkreis: An Nahe und Glan\nArt der Veranstaltung: Fortbi
 ldungen / Seminare / Vorträge\nVeranstaltungsort: Ev. Paul-Schneider Gemei
 nde Bad Sobernheim\nKirchstraße 9\n55566 Bad Sobernheim\nKurzbeschreibung 
 / Untertitel: Deutsch-Sprachkurs für Erwachsenen mit Migrationshintergund\
 , Sprachniveau A1\nAusführliche Beschreibung: Die Integration von Menschen
  mit Migrationshintergrund setzt ausreichende Deutschkenntnisse der Migran
 tinnen und Migranten voraus. Nur\, wer sich in der Landessprache verständi
 gen und kommunizieren kann\, hat eine realistische Chance\, Fuß zu fassen 
 und heimisch zu werden\, Freunde und einen Ausbildungs- oder Arbeitsplatz 
 zu finden und sich eine Lebensperspektive aufzubauen. Umso wichtiger ist e
 s\, dass zugewanderte Menschen die Möglichkeit haben\, in einem überschaub
 aren Zeitraum Deutsch zu lernen. Genau dies leisten die Landeskurse Sprach
 ziel: Deutsch. Der Kurs umfasst 400 UE und behandelt die Themen Alltag und
  Mobilität\, Soziale Kontakte\, Einkaufen\, Schule und Kita\, Gesundheit\,
  Wohnen\, Arbeit und Wertediskurs.\nFörderbereich: Kompensatorische Grundb
 ildung\nReferent/in: Sara Rieger und Christian Wenzel\nAnsprechpartner/in 
 - Leitung: Alexandra Wust\nKosten: kostenlos\nZusatzinformationen: Der Kur
 s findet jeweils montags\, dienstags und donnerstags von 9.00 Uhr bis 12.1
 5 Uhr\nAnmeldung ist jederzeit möglich bei Alexandra Wust unter 06761 9703
 42 oder unter swust@eeb-sued.de oder bei den Referentinnen unter Tel:. 067
 55 1809\nKursnummer: Start-Kurs A1\n: \nAnsprechpartner: Alexandra Wust sw
 ust@eeb-sued.de\n06761/7018
DTSTART;TZID=Europe/Berlin:20240304T090000
DTEND;TZID=Europe/Berlin:20240304T121500
LOCATION:Bad Sobernheim: Ev. Paul-Schneider Gemeinde Bad Sobernheim
SUMMARY:Sprachkurs Sprachziel: Deutsch – Start-Kurs A1 :: Deutsch-Sprachkur
 s für Erwachsenen mit Migrationshintergund\, Sprachniveau A1
URL:https://termine.ekir.de/veranstaltung_im_detail816454.html
END:VEVENT
END:VCALENDAR
