BEGIN:VCALENDAR
VERSION:2.0
PRODID:-//evangelische-termine.de//NONSGML kigkonsult.se iCalcreator 2.18//
CALSCALE:GREGORIAN
METHOD:PUBLISH
X-WR-CALNAME:iCal Evangelische-Termine 19.04.2026
X-WR-CALDESC:iCalender von Evangelische-Termine (19.04.2026)
X-WR-TIMEZONE:Europe/Berlin
X-MS-OLK-FORCEINSPECTOROPEN:TRUE
BEGIN:VTIMEZONE
TZID:Europe/Berlin
BEGIN:STANDARD
DTSTART:19701025T030000
TZOFFSETFROM:+0200
TZOFFSETTO:+0100
RRULE:FREQ=YEARLY;BYDAY=-1SU;BYMONTH=10
TZNAME:CET
END:STANDARD
BEGIN:DAYLIGHT
DTSTART:19700329T020000
TZOFFSETFROM:+0100
TZOFFSETTO:+0200
RRULE:FREQ=YEARLY;BYDAY=-1SU;BYMONTH=3
TZNAME:CEST
END:DAYLIGHT
END:VTIMEZONE
BEGIN:VEVENT
UID:20240304T083000-816462@evangelische-termine.de
DTSTAMP:20260419T204809Z
DESCRIPTION:\nKirchenkreis: Simmern-Trarbach\nArt der Veranstaltung: Fortbi
 ldungen / Seminare / Vorträge\nVeranstaltungsort: Ev. Gemeindehaus Büchenb
 euren\nHauptstraße 83\n55491 Büchenbeuren\nKurzbeschreibung / Untertitel: 
 Deutsch-Sprachkurs für Erwachsenen mit Migrationshintergund\, Sprachniveau
  A1\nAusführliche Beschreibung: Die Integration von Menschen mit Migration
 shintergrund setzt ausreichende Deutschkenntnisse der Migrantinnen und Mig
 ranten voraus. Nur\, wer sich in der Landessprache verständigen und kommun
 izieren kann\, hat eine realistische Chance\, Fuß zu fassen und heimisch z
 u werden\, Freunde und einen Ausbildungs- oder Arbeitsplatz zu finden und 
 sich eine Lebensperspektive aufzubauen. Umso wichtiger ist es\, dass zugew
 anderte Menschen die Möglichkeit haben\, in einem überschaubaren Zeitraum 
 Deutsch zu lernen. Genau dies leisten die Landeskurse Sprachziel: Deutsch.
  Der Kurs umfasst 400 UE und behandelt die Themen Alltag und Mobilität\, S
 oziale Kontakte\, Einkaufen\, Schule und Kita\, Gesundheit\, Wohnen\, Arbe
 it und Wertediskurs.\nFörderbereich: Kompensatorische Grundbildung\nRefere
 nt/in: Lydia Rau\nAnsprechpartner/in - Leitung: Alexandra Wust\nKosten: ko
 stenlos\nZusatzinformationen: Der Kurs findet jeweils montags\, dienstags 
 und donnerstags von 8.30 Uhr bis 11.30 Uhr\nAnmeldung ist jederzeit möglic
 h bei Alexandra Wust unter 06761 970342 oder unter swust@eeb-sued.de oder 
 bei der Referentin unter Tel. 06543/980066\nKursnummer: Start-Kurs A1\n: 
 \nAnsprechpartner: Alexandra Wust swust@eeb-sued.de\n06761/7018
DTSTART;TZID=Europe/Berlin:20240304T083000
DTEND;TZID=Europe/Berlin:20240304T111500
LOCATION:Büchenbeuren: Ev. Gemeindehaus Büchenbeuren
SUMMARY:Sprachkurs Sprachziel: Deutsch – Start-Kurs A1 :: Deutsch-Sprachkur
 s für Erwachsenen mit Migrationshintergund\, Sprachniveau A1
URL:https://termine.ekir.de/veranstaltung_im_detail816462.html
END:VEVENT
END:VCALENDAR
