BEGIN:VCALENDAR
VERSION:2.0
PRODID:-//evangelische-termine.de//NONSGML kigkonsult.se iCalcreator 2.18//
CALSCALE:GREGORIAN
METHOD:PUBLISH
X-WR-CALNAME:iCal Evangelische-Termine 20.04.2026
X-WR-CALDESC:iCalender von Evangelische-Termine (20.04.2026)
X-WR-TIMEZONE:Europe/Berlin
X-MS-OLK-FORCEINSPECTOROPEN:TRUE
BEGIN:VTIMEZONE
TZID:Europe/Berlin
BEGIN:STANDARD
DTSTART:19701025T030000
TZOFFSETFROM:+0200
TZOFFSETTO:+0100
RRULE:FREQ=YEARLY;BYDAY=-1SU;BYMONTH=10
TZNAME:CET
END:STANDARD
BEGIN:DAYLIGHT
DTSTART:19700329T020000
TZOFFSETFROM:+0100
TZOFFSETTO:+0200
RRULE:FREQ=YEARLY;BYDAY=-1SU;BYMONTH=3
TZNAME:CEST
END:DAYLIGHT
END:VTIMEZONE
BEGIN:VEVENT
UID:20240711T110000-816466@evangelische-termine.de
DTSTAMP:20260420T001151Z
DESCRIPTION:\nKirchenkreis: überregional\nArt der Veranstaltung: Fortbildun
 gen / Seminare / Vorträge\nVeranstaltungsort: online\n- -\nKurzbeschreibun
 g / Untertitel: Monatlicher Austausch für Bildungsreferentinnen und -refer
 enten\nAusführliche Beschreibung: Zoom-Austausch für Multiplikator*innen\n
 \nMit dem „Digitalen Treff” bieten wir Ihnen die Möglichkeit sich zu unter
 schiedlichen Themen digitaler Bildung auszutauschen. Ein Mal monatlich sin
 d Multiplikator:innen der ELAG-Mitgliedseinrichtungen und Interessierte ei
 ngeladen sich untereinander auszutauschen. Die Treffen sind jeweils von 11
 .00 bis 12.00 Uhr angesetzt und beinhalten einen kurzen thematischen Impul
 s\, sowie die Diskussion über Ihre eigenen Bedarfe.\n\nBei Interesse steht
  es Ihnen völlig frei sich für alle oder lediglich nur für einzelne Termin
 e anzumelden.\n\nThemen und Termine bis Ende 2024:\n11. Juli | Digitaler T
 reff: Ein digitales Seminar planen\n08. August | Digitaler Treff: KI-Tools
  für Online-Formate\n19. September | Digitaler Treff: Was brauchen Hybrid-
 Workshops\n17. Oktober | Digitaler Treff: Thema folgt noch\n14. November |
  Digitaler Treff: Thema folgt noch\nInternetadresse (eigene Infos im Inter
 net): https://elag.de/digitaler-treff/\nFörderbereich: Berufliche Bildung
 \nReferent/in: Christian Gisinger ELAG Digitalisierungsbeauftragter\nAnspr
 echpartner/in - Leitung: Christian Gisinger ELAG Digitalisierungsbeauftrag
 ter\nKosten: kostenfrei\nZusatzinformationen: Anmeldung unter https://elag
 .de/digitaler-treff/\nAnsprechpartner: Carola Schick eeb-sued@eeb-sued.de
DTSTART;TZID=Europe/Berlin:20240711T110000
DTEND;TZID=Europe/Berlin:20240711T120000
LOCATION:-: online
SUMMARY:Digitaler Treff – Zoom Austausch für Bildungsreferent:innen :: Mona
 tlich für Bildungsreferentinnen und -referenten
URL:https://termine.ekir.de/veranstaltung_im_detail816466.html
END:VEVENT
END:VCALENDAR
