BEGIN:VCALENDAR
VERSION:2.0
PRODID:-//evangelische-termine.de//NONSGML kigkonsult.se iCalcreator 2.18//
CALSCALE:GREGORIAN
METHOD:PUBLISH
X-WR-CALNAME:iCal Evangelische-Termine 20.04.2026
X-WR-CALDESC:iCalender von Evangelische-Termine (20.04.2026)
X-WR-TIMEZONE:Europe/Berlin
X-MS-OLK-FORCEINSPECTOROPEN:TRUE
BEGIN:VTIMEZONE
TZID:Europe/Berlin
BEGIN:STANDARD
DTSTART:19701025T030000
TZOFFSETFROM:+0200
TZOFFSETTO:+0100
RRULE:FREQ=YEARLY;BYDAY=-1SU;BYMONTH=10
TZNAME:CET
END:STANDARD
BEGIN:DAYLIGHT
DTSTART:19700329T020000
TZOFFSETFROM:+0100
TZOFFSETTO:+0200
RRULE:FREQ=YEARLY;BYDAY=-1SU;BYMONTH=3
TZNAME:CEST
END:DAYLIGHT
END:VTIMEZONE
BEGIN:VEVENT
UID:20240716T100000-816473@evangelische-termine.de
DTSTAMP:20260420T002350Z
DESCRIPTION:\nKirchenkreis: überregional\nArt der Veranstaltung: Fortbildun
 gen / Seminare / Vorträge\nVeranstaltungsort: online\n- -\nKurzbeschreibun
 g / Untertitel: KI in der Bildungsarbeit\nAusführliche Beschreibung: ChatG
 PT – Ein Tool\, das 2023 die öffentliche Aufmerksamkeit im Bereich der kün
 stlichen Intelligenz dominierte. Die Möglichkeiten des Chatbots reichen vo
 n der Erstellung kurzer Zusammenfassungen\, über die Entwicklung von Konze
 pten bis hin zu simpleren Anfragen wie Rezeptideen oder Witzen. Doch könne
 n KI-Tools neben all diesen Möglichkeiten auch für die Bildungsarbeit eing
 esetzt werden?\n\nAm 16. Juli werden wir von 10.00 bis 12.00 Uhr per Zoom 
 einige KI-Tools unter die Lupe nehmen und uns über ihre Möglichkeiten sowi
 e den Einsatz in unseren Veranstaltungen austauschen. Die Veranstaltung is
 t in erster Linie an Teilnehmende gerichtet die noch wenig Erfahrung mit d
 er Nutzung von Tools wie ChatGPT gemacht haben\, diese aber in ihre Verans
 taltungsplanung und -gestaltung integrieren wollen.\n\nDieses Angebot find
 et im Rahmen des Projekts “Barrierefreiheit in der digitalen Weiterbildung
 : Handlungsempfehlungen” statt und wird gefördert vom Ministerium für Arbe
 it\, Soziales\, Transformation und Digitalisierung Rheinland-Pfalz (MASTD)
 .\nInternetadresse (eigene Infos im Internet): https://elag.de/von-chatgpt
 -bis-midjourney/\nFörderbereich: Berufliche Bildung\nReferent/in: Christia
 n Gisinger ELAG Digitalisierungsbeauftragter\nAnsprechpartner/in - Leitung
 : Christian Gisinger ELAG Digitalisierungsbeauftragter\nKosten: kostenfrei
 \nZusatzinformationen: Anmeldung unter https://elag.de/von-chatgpt-bis-mid
 journey/\nAnsprechpartner: Carola Schick eeb-sued@eeb-sued.de
DTSTART;TZID=Europe/Berlin:20240716T100000
DTEND;TZID=Europe/Berlin:20240716T120000
LOCATION:-: online
SUMMARY:Von ChatGPT bis Midjourney :: KI in der Bildungsarbeit
URL:https://termine.ekir.de/veranstaltung_im_detail816473.html
END:VEVENT
END:VCALENDAR
