BEGIN:VCALENDAR
VERSION:2.0
PRODID:-//evangelische-termine.de//NONSGML kigkonsult.se iCalcreator 2.18//
CALSCALE:GREGORIAN
METHOD:PUBLISH
X-WR-CALNAME:iCal Evangelische-Termine 20.04.2026
X-WR-CALDESC:iCalender von Evangelische-Termine (20.04.2026)
X-WR-TIMEZONE:Europe/Berlin
X-MS-OLK-FORCEINSPECTOROPEN:TRUE
BEGIN:VTIMEZONE
TZID:Europe/Berlin
BEGIN:STANDARD
DTSTART:19701025T030000
TZOFFSETFROM:+0200
TZOFFSETTO:+0100
RRULE:FREQ=YEARLY;BYDAY=-1SU;BYMONTH=10
TZNAME:CET
END:STANDARD
BEGIN:DAYLIGHT
DTSTART:19700329T020000
TZOFFSETFROM:+0100
TZOFFSETTO:+0200
RRULE:FREQ=YEARLY;BYDAY=-1SU;BYMONTH=3
TZNAME:CEST
END:DAYLIGHT
END:VTIMEZONE
BEGIN:VEVENT
UID:20240719T180000-816490@evangelische-termine.de
DTSTAMP:20260420T002201Z
DESCRIPTION:\nKirchenkreis: überregional\nArt der Veranstaltung: Fortbildun
 gen / Seminare / Vorträge\nVeranstaltungsort: Haus der Stille\nMelsbacher 
 Hohl 5\n56579 Rengsdorf\nKurzbeschreibung / Untertitel: Schreibend den eig
 enen spirituellen Weg entdecken.\nAusführliche Beschreibung: Wann beginnt 
 die spirituelle Biografie eines Menschen? Mit seiner Taufe\, dem ersten ei
 genen Gebet – oder schon mit den Gebeten seiner Eltern? Gibt es so etwas w
 ie typische Etappen in diesem Lebenslauf? Welche spirituellen Orte haben u
 nser Leben geprägt? Können wir Krisen und Wendepunkte als Wegmarken unsere
 r spirituellen Entwicklung wahrnehmen? Eine spirituelle Biografie lässt si
 ch entdecken anhand der eigenen Gottesbilder\, Kraftorte\, Krisen und (Auf
 -)Brüche. Beim angeleiteten und freien Schreiben\, mit Tagzeitgebeten und 
 geistlichen Impulsen gewinnen wir eine neue Sicht und Erzählweise unseres 
 geistlichen Lebenswegs und blicken auf das\, was noch werden möchte.\nInte
 rnetadresse (eigene Infos im Internet): https://termine.ekir.de/rueckmelde
 formular28-735609\nFörderbereich: Theologie/Religion\nReferent/in: Dagmar 
 Auberg\, Sozialpädagogin\, GB*: Priska Mielke\, freie Journalistin\nMülhei
 m an der Ruhr: Köln\n\nKosten: 279\,– € inkl. Unterkunft und Verpflegung\n
 Zusatzinformationen: Anmeldung an anmeldung.hds@ekir.de\noder via Website:
  https://termine.ekir.de/rueckmeldeformular28-735609
DTSTART;TZID=Europe/Berlin:20240719T180000
DTEND;TZID=Europe/Berlin:20240721T140000
LOCATION:Rengsdorf: Haus der Stille
SUMMARY:Orte\, Krisen\, Aufbrüche: Einführung ins Erzählen des geistlichen 
 Lebenslaufs :: Schreibend den eigenen spirituellen Weg entdecken. 
URL:https://termine.ekir.de/veranstaltung_im_detail816490.html
END:VEVENT
END:VCALENDAR
