BEGIN:VCALENDAR
VERSION:2.0
PRODID:-//evangelische-termine.de//NONSGML kigkonsult.se iCalcreator 2.18//
CALSCALE:GREGORIAN
METHOD:PUBLISH
X-WR-CALNAME:iCal Evangelische-Termine 20.04.2026
X-WR-CALDESC:iCalender von Evangelische-Termine (20.04.2026)
X-WR-TIMEZONE:Europe/Berlin
X-MS-OLK-FORCEINSPECTOROPEN:TRUE
BEGIN:VTIMEZONE
TZID:Europe/Berlin
BEGIN:STANDARD
DTSTART:19701025T030000
TZOFFSETFROM:+0200
TZOFFSETTO:+0100
RRULE:FREQ=YEARLY;BYDAY=-1SU;BYMONTH=10
TZNAME:CET
END:STANDARD
BEGIN:DAYLIGHT
DTSTART:19700329T020000
TZOFFSETFROM:+0100
TZOFFSETTO:+0200
RRULE:FREQ=YEARLY;BYDAY=-1SU;BYMONTH=3
TZNAME:CEST
END:DAYLIGHT
END:VTIMEZONE
BEGIN:VEVENT
UID:20240810T140000-816491@evangelische-termine.de
DTSTAMP:20260420T001016Z
DESCRIPTION:\nKirchenkreis: überregional\nArt der Veranstaltung: Fortbildun
 gen / Seminare / Vorträge\nVeranstaltungsort: Ev. Gemeindehaus Winningen\n
 Kirchstraße 5\n56333 Winningen\nKurzbeschreibung / Untertitel: Schreibend 
 nähern wir uns dem großen Thema WÜRDE.\nAusführliche Beschreibung: Auch Sc
 hreib-Einsteigerinnen sind herzlich willkommen!\nInternetadresse (eigene I
 nfos im Internet): http://www.ev.kirche-winningen.de\nFörderbereich: Sonst
 iges\nReferent/in: Susanne Barth\nAnsprechpartner/in - Leitung: Susanne Ba
 rth\nKosten: 59\,– € zzgl. kleiner kulinarischer Beitrag zum Büffet\nZusat
 zinformationen: Anmeldung bis 03.08.2024 bei der Ev. Kirchengemeinde Winni
 ngen unter winningen@ekir.de\, Tel. 02606 344\, Mobil 0177 5558135 oder in
 fo@susanne-barth.com\nAnsprechpartner: Susanne Barth winningen@ekir.de
DTSTART;TZID=Europe/Berlin:20240810T140000
DTEND;TZID=Europe/Berlin:20240810T190000
LOCATION:Winningen: Ev. Gemeindehaus Winningen
SUMMARY:KÖNIGLICH-Schreibzeit für Frauen – die Würde des Menschen ist unant
 astbar :: Auch Schreib-Einsteigerinnen sind herzlich willkommen!
URL:https://termine.ekir.de/veranstaltung_im_detail816491.html
END:VEVENT
END:VCALENDAR
