BEGIN:VCALENDAR
VERSION:2.0
PRODID:-//evangelische-termine.de//NONSGML kigkonsult.se iCalcreator 2.18//
CALSCALE:GREGORIAN
METHOD:PUBLISH
X-WR-CALNAME:iCal Evangelische-Termine 20.04.2026
X-WR-CALDESC:iCalender von Evangelische-Termine (20.04.2026)
X-WR-TIMEZONE:Europe/Berlin
X-MS-OLK-FORCEINSPECTOROPEN:TRUE
BEGIN:VTIMEZONE
TZID:Europe/Berlin
BEGIN:STANDARD
DTSTART:19701025T030000
TZOFFSETFROM:+0200
TZOFFSETTO:+0100
RRULE:FREQ=YEARLY;BYDAY=-1SU;BYMONTH=10
TZNAME:CET
END:STANDARD
BEGIN:DAYLIGHT
DTSTART:19700329T020000
TZOFFSETFROM:+0100
TZOFFSETTO:+0200
RRULE:FREQ=YEARLY;BYDAY=-1SU;BYMONTH=3
TZNAME:CEST
END:DAYLIGHT
END:VTIMEZONE
BEGIN:VEVENT
UID:20240827T100000-816499@evangelische-termine.de
DTSTAMP:20260420T000923Z
DESCRIPTION:\nKirchenkreis: überregional\nVeranstaltungsort: Ev. Erwachsene
 nbildungswerk Rheinland-Süd e.V.\, Simmern\nHerzog-Reichard-Str. 30\n55469
  Simmern\nKurzbeschreibung / Untertitel: Was steckt hinter diesen Begriffe
 n?\nAusführliche Beschreibung: Die Digitalisierung schreitet voran\, doch 
 viele Menschen\, deren Alltag nicht nur in der digitalen Welt stattfindet\
 , fühlen sich abgehängt. Welche Bedeutung haben die Begriffe und in welche
 m Zusammenhang stehen sie. Der Workshop steht unter dem Motto Hilfe zur Se
 lbsthilfe!\n\nIn dem Workshop werden wir uns in gemütlicher Runde mit:\n> 
 Definitionen vieler Begrifflichkeiten beschäftigen\n> verschiedene Werkzeu
 ge für das eigene Handeln in der digitalen Welt  \n   kennenlernen und \n>
  uns zu Hilfestellungen zur Selbsthilfe im Umgang mit den eigenen \n   Mob
 ilgeräte austauschen.\nFörderbereich: Technik\, Technologien\, Medien\nRef
 erent/in: Carola Schick\nAnsprechpartner/in - Leitung: Carola Schick\nKost
 en: 10\,– €\nZusatzinformationen: Anmeldung bis zum 20.08.2024\n: \nAnspre
 chpartner: Carola Schick eeb-sued@eeb-sued.de
DTSTART;TZID=Europe/Berlin:20240827T100000
DTEND;TZID=Europe/Berlin:20240827T123000
LOCATION:Simmern: Ev. Erwachsenenbildungswerk Rheinland-Süd e.V.\, Simmern
SUMMARY:Das analoge (Web)-Café! – Hilfe eine App! – App\, Browser\, Account
 ... in Simmern :: Was steckt hinter diesen Begriffen?
URL:https://termine.ekir.de/veranstaltung_im_detail816499.html
END:VEVENT
END:VCALENDAR
