BEGIN:VCALENDAR
VERSION:2.0
PRODID:-//evangelische-termine.de//NONSGML kigkonsult.se iCalcreator 2.18//
CALSCALE:GREGORIAN
METHOD:PUBLISH
X-WR-CALNAME:iCal Evangelische-Termine 20.04.2026
X-WR-CALDESC:iCalender von Evangelische-Termine (20.04.2026)
X-WR-TIMEZONE:Europe/Berlin
X-MS-OLK-FORCEINSPECTOROPEN:TRUE
BEGIN:VTIMEZONE
TZID:Europe/Berlin
BEGIN:STANDARD
DTSTART:19701025T030000
TZOFFSETFROM:+0200
TZOFFSETTO:+0100
RRULE:FREQ=YEARLY;BYDAY=-1SU;BYMONTH=10
TZNAME:CET
END:STANDARD
BEGIN:DAYLIGHT
DTSTART:19700329T020000
TZOFFSETFROM:+0100
TZOFFSETTO:+0200
RRULE:FREQ=YEARLY;BYDAY=-1SU;BYMONTH=3
TZNAME:CEST
END:DAYLIGHT
END:VTIMEZONE
BEGIN:VEVENT
UID:20240828T150000-816501@evangelische-termine.de
DTSTAMP:20260420T001042Z
DESCRIPTION:\nKirchenkreis: überregional\nArt der Veranstaltung: Fortbildun
 gen / Seminare / Vorträge\nVeranstaltungsort: Ev. Gemeindehaus Mendig\nHei
 denstockstraße 45\n56743 Mendig\nKurzbeschreibung / Untertitel: Wo in der 
 Bibel von Pflanzen die Rede ist...\nAusführliche Beschreibung: Wo in der B
 ibel von Pflanzen die Rede ist\, vermitteln sie vor allem einen Eindruck v
 on der Lebensweise der Menschen im östlichen Mittelmeerraum. Doch viele Pf
 lanzen waren auch mit religiösen Regeln und kulturellen Gepflogenheiten ve
 rbunden.\nFörderbereich: Religiöse Bildung\, Religionen\, Theologie\, Ethi
 k\, Grenzfragen\nReferent/in: Margit Büttner\, Pfarrerin i.R.\nAnsprechpar
 tner/in - Leitung: Margit Büttner\nKosten: kostenfrei\nZusatzinformationen
 : Veranstalter ist die Frauenhilfe der Ev. Kirchengemeinde Mendig\nAnmeldu
 ng nicht erforderlich.
DTSTART;TZID=Europe/Berlin:20240828T150000
DTEND;TZID=Europe/Berlin:20240828T163000
LOCATION:Mendig: Ev. Gemeindehaus Mendig
SUMMARY:Pflanzen in der Bibel :: Wo in der Bibel von Pflanzen die Rede ist.
 ..
URL:https://termine.ekir.de/veranstaltung_im_detail816501.html
END:VEVENT
END:VCALENDAR
