BEGIN:VCALENDAR
VERSION:2.0
PRODID:-//evangelische-termine.de//NONSGML kigkonsult.se iCalcreator 2.18//
CALSCALE:GREGORIAN
METHOD:PUBLISH
X-WR-CALNAME:iCal Evangelische-Termine 20.04.2026
X-WR-CALDESC:iCalender von Evangelische-Termine (20.04.2026)
X-WR-TIMEZONE:Europe/Berlin
X-MS-OLK-FORCEINSPECTOROPEN:TRUE
BEGIN:VTIMEZONE
TZID:Europe/Berlin
BEGIN:STANDARD
DTSTART:19701025T030000
TZOFFSETFROM:+0200
TZOFFSETTO:+0100
RRULE:FREQ=YEARLY;BYDAY=-1SU;BYMONTH=10
TZNAME:CET
END:STANDARD
BEGIN:DAYLIGHT
DTSTART:19700329T020000
TZOFFSETFROM:+0100
TZOFFSETTO:+0200
RRULE:FREQ=YEARLY;BYDAY=-1SU;BYMONTH=3
TZNAME:CEST
END:DAYLIGHT
END:VTIMEZONE
BEGIN:VEVENT
UID:20240820T173000-816817@evangelische-termine.de
DTSTAMP:20260420T003746Z
DESCRIPTION:\nKirchenkreis: überregional\nArt der Veranstaltung: Fortbildun
 gen / Seminare / Vorträge\nVeranstaltungsort: Stadtbücherei Kirn\nWilhem-D
 röscher-Platz 1\n55606 Kirn\nKurzbeschreibung / Untertitel: Was fällt Ihne
 n zu der Methode Planspiel ein?\nAusführliche Beschreibung: In diesem Plan
 spiel erfahren Sie hautnah\, wie geschlossene Denkräume entstehen. Darüber
  hinaus loten Sie Möglichkeiten der Kommunikation in herausfordernden Situ
 ationen aus.\nWir haben ein aus dem Jugendbereich stammendes Planspiel für
  die Erwachsenenbildung adaptiert. Es soll Handlungshilfen und -empfehlung
 en im Umgang mit Gruppen im Bereich der politischen Bildung geben.\nWähren
 d der Veranstaltung lernen Sie wie Sie diese Methode in Ihren Gruppen anle
 iten und einen hohen persönlichen Wahrnehmungseffekt erzielen können\, um 
 den demokratischen Gedanken zu stärken.\nInternetadresse (eigene Infos im 
 Internet): http://www.elag.de\nFörderbereich: Politische Bildung\nReferent
 /in: Christian Gisinger\, Matthias Blöser\, Carola Schick\, Alexandra Wust
 \nAnsprechpartner/in - Leitung: Carola Schick\nKosten: kostenfrei\nZusatzi
 nformationen: Anmeldung bis 19.09.2024\n: 
DTSTART;TZID=Europe/Berlin:20240820T173000
DTEND;TZID=Europe/Berlin:20240820T213000
LOCATION:Kirn: Stadtbücherei Kirn
SUMMARY:Leben wir in der Blase oder denken wir noch? :: In diesem Planspiel
  erfahren Sie hautnah\, wie geschlossene Denkräume entstehen.
URL:https://termine.ekir.de/veranstaltung_im_detail816817.html
END:VEVENT
END:VCALENDAR
