BEGIN:VCALENDAR
VERSION:2.0
PRODID:-//evangelische-termine.de//NONSGML kigkonsult.se iCalcreator 2.18//
CALSCALE:GREGORIAN
METHOD:PUBLISH
X-WR-CALNAME:iCal Evangelische-Termine 20.04.2026
X-WR-CALDESC:iCalender von Evangelische-Termine (20.04.2026)
X-WR-TIMEZONE:Europe/Berlin
X-MS-OLK-FORCEINSPECTOROPEN:TRUE
BEGIN:VTIMEZONE
TZID:Europe/Berlin
BEGIN:STANDARD
DTSTART:19701025T030000
TZOFFSETFROM:+0200
TZOFFSETTO:+0100
RRULE:FREQ=YEARLY;BYDAY=-1SU;BYMONTH=10
TZNAME:CET
END:STANDARD
BEGIN:DAYLIGHT
DTSTART:19700329T020000
TZOFFSETFROM:+0100
TZOFFSETTO:+0200
RRULE:FREQ=YEARLY;BYDAY=-1SU;BYMONTH=3
TZNAME:CEST
END:DAYLIGHT
END:VTIMEZONE
BEGIN:VEVENT
UID:20240911T180000-818576@evangelische-termine.de
DTSTAMP:20260420T002330Z
DESCRIPTION:\nKirchenkreis: überregional\nArt der Veranstaltung: Fortbildun
 gen / Seminare / Vorträge\nVeranstaltungsort: online\n- -\nKurzbeschreibun
 g / Untertitel: Möchten Sie Ihre Öffentlichkeitsarbeit auf ein neues Level
  heben? Dann melden Sie sich jetzt an!\nAusführliche Beschreibung: Erfahre
 n Sie\, welche Regeln bei der Erstellung von Presseartikeln\, Plakaten und
  Flyern zu beachten sind und entdecken Sie effektive Wege\, um Ihre Bücher
 ei und ihre Veranstaltungen bekannt zu machen!\nMöchten Sie die Geheimniss
 e einer erfolgreichen Öffentlichkeitsarbeit für Ihre Bücherei kennenlernen
 ? Dann sind Sie bei unserem Workshop genau richtig! Hier erwarten Sie prak
 tische Tipps und Tricks\, wie Sie mit Presseartikeln\, ansprechenden Plaka
 ten und informativen Flyern das Interesse an Ihrer Bücherei und den Verans
 taltungen steigern können.\n\nInhalte des Workshops:\n> Presseartikel: Wel
 che Regeln müssen beachtet werden\, um Aufmerksamkeit zu erregen und Infor
 mationen klar zu vermitteln?\n> Plakat- und Flyergestaltung: Tipps und Emp
 fehlungen\, wie ein ansprechendes Design gestaltet werden kann\, um die Zi
 elgruppe zu erreichen.\n> Bekanntmachung der Bücherei: Entdecken Sie versc
 hiedene Wege\, um Ihre Bücherei und Veranstaltungen effektiv zu bewerben u
 nd bekannt zu machen.\n\nWir freuen uns auf inspirierende Diskussionen und
  einen regen Erfahrungsaustausch!\nFörderbereich: Sonstiges\nReferent/in: 
 Helena Schäuble und Carola Schick\nAnsprechpartner/in - Leitung: Helena Sc
 häuble\nKosten: 20\,– €\nZusatzinformationen: Anmeldung bis zum 04.09.2024
 \n: \nAnsprechpartner: Helena Schäuble anmeldung@eeb-sued.de\nTelefon 0676
 1/7018\nwww.eeb-sued.de
DTSTART;TZID=Europe/Berlin:20240911T180000
DTEND;TZID=Europe/Berlin:20240911T193000
LOCATION:-: online
SUMMARY:Aufgeklärt! – Die Geheimnisse einer guten Öffentlichkeitsarbeit in 
 Ihrer Bücherei :: Möchten Sie Ihre Öffentlichkeitsarbeit auf ein neues Lev
 el heben? Dann melden Sie sich jetzt an!
URL:https://termine.ekir.de/veranstaltung_im_detail818576.html
END:VEVENT
END:VCALENDAR
