BEGIN:VCALENDAR
VERSION:2.0
PRODID:-//evangelische-termine.de//NONSGML kigkonsult.se iCalcreator 2.18//
CALSCALE:GREGORIAN
METHOD:PUBLISH
X-WR-CALNAME:iCal Evangelische-Termine 20.04.2026
X-WR-CALDESC:iCalender von Evangelische-Termine (20.04.2026)
X-WR-TIMEZONE:Europe/Berlin
X-MS-OLK-FORCEINSPECTOROPEN:TRUE
BEGIN:VTIMEZONE
TZID:Europe/Berlin
BEGIN:STANDARD
DTSTART:19701025T030000
TZOFFSETFROM:+0200
TZOFFSETTO:+0100
RRULE:FREQ=YEARLY;BYDAY=-1SU;BYMONTH=10
TZNAME:CET
END:STANDARD
BEGIN:DAYLIGHT
DTSTART:19700329T020000
TZOFFSETFROM:+0100
TZOFFSETTO:+0200
RRULE:FREQ=YEARLY;BYDAY=-1SU;BYMONTH=3
TZNAME:CEST
END:DAYLIGHT
END:VTIMEZONE
BEGIN:VEVENT
UID:20241016T183000-819586@evangelische-termine.de
DTSTAMP:20260420T003634Z
DESCRIPTION:\nKirchenkreis: überregional\nArt der Veranstaltung: Fortbildun
 gen / Seminare / Vorträge\nVeranstaltungsort: Ev. Gemeindehaus Elkenroth\n
 Hildburgstraße 28\n57578 Elkenroth\nKurzbeschreibung / Untertitel: Anregun
 gen für ältere Menschen\, um körperlich und geistig fit zu bleiben.\nAusfü
 hrliche Beschreibung: Jede:r hat es auch im höheren Lebensalter selbst in 
 der Hand\, Neues zu lernen und so zu trainieren\, dass die geistigen Reser
 ven möglichst lange erhalten und genutzt werden. \n\nThemen werden sein:\n
 Entwicklungspsychologische Besonderheiten (Lebensaufgaben)\, altersbedingt
 e geistige Abbauerscheinungen (Demenz) und Umgang mit zunehmenden körperli
 chen Erkrankungen (Multimorbidität).\nInternetadresse (eigene Infos im Int
 ernet): https://www.diakonie-altenkirchen.de/\nFörderbereich: Lebensgestal
 tende Bildung\, Existenzfragen\, einschließlich der Bereiche der soz. u.. 
 interkulturellen Beziehungen\nReferent/in: Barbara Stahlheber\, Dipl.-Psyc
 hologin\nFachliche Leitung der Beratungsstelle\nAnsprechpartner/in - Leitu
 ng: Diakonisches Werk des Evangelischen Kirchenkreises Altenkirchen\nBerat
 ungsstelle für Kinder\, Jugendliche und Erwachsene\nStadthallenweg 16\, 57
 610 Altenkirchen\nKosten: kostenfrei\nZusatzinformationen: Anmeldung bis z
 um 30.09.2024\nunter Tel.: 02681-82496 12 oder\nper Mail: info@beratungsst
 elle-altenkirchen.de
DTSTART;TZID=Europe/Berlin:20241016T183000
DTEND;TZID=Europe/Berlin:20241016T203000
LOCATION:Elkenroth: Ev. Gemeindehaus Elkenroth
SUMMARY:Gib dem Leben keine Jahre\, gib den Jahren Leben! :: Anregungen für
  ältere Menschen\, um körperlich und geistig fit zu bleiben. 
URL:https://termine.ekir.de/veranstaltung_im_detail819586.html
END:VEVENT
END:VCALENDAR
