BEGIN:VCALENDAR
VERSION:2.0
PRODID:-//evangelische-termine.de//NONSGML kigkonsult.se iCalcreator 2.18//
CALSCALE:GREGORIAN
METHOD:PUBLISH
X-WR-CALNAME:iCal Evangelische-Termine 20.04.2026
X-WR-CALDESC:iCalender von Evangelische-Termine (20.04.2026)
X-WR-TIMEZONE:Europe/Berlin
X-MS-OLK-FORCEINSPECTOROPEN:TRUE
BEGIN:VTIMEZONE
TZID:Europe/Berlin
BEGIN:STANDARD
DTSTART:19701025T030000
TZOFFSETFROM:+0200
TZOFFSETTO:+0100
RRULE:FREQ=YEARLY;BYDAY=-1SU;BYMONTH=10
TZNAME:CET
END:STANDARD
BEGIN:DAYLIGHT
DTSTART:19700329T020000
TZOFFSETFROM:+0100
TZOFFSETTO:+0200
RRULE:FREQ=YEARLY;BYDAY=-1SU;BYMONTH=3
TZNAME:CEST
END:DAYLIGHT
END:VTIMEZONE
BEGIN:VEVENT
UID:20240911T183000-819592@evangelische-termine.de
DTSTAMP:20260420T001047Z
DESCRIPTION:\nKirchenkreis: überregional\nArt der Veranstaltung: Fortbildun
 gen / Seminare / Vorträge\nVeranstaltungsort: Ev. Gemeindehaus Betzdorf\nS
 t. Barbara Straße 16\n57518 Betzdorf\nKurzbeschreibung / Untertitel: Handl
 ungsorientierungen für Schulsozialarbeiter*innen und pädagogische Fachkräf
 te bei Diagnosen im Kinder- und Jugendalter\nAusführliche Beschreibung: Ei
 n Angebot für Schulsozialarbeiter:innen und pädagogische Fachkräfte.\nIm W
 esentlichen lassen sich drei Hauptursachen für psychische Auffälligkeiten 
 im Kindes- und Jugendalter benennen: Erbliche Ursachen\, Schädigung des Ge
 hirns sowie Umwelteinflüsse.\nHäufig spielen mehrere Faktoren zusammen.  B
 eispielhaft werden psychische Erkrankungen im Kindes- und Jugendalter them
 atisiert und Möglichkeiten des Umgangs aufgezeigt.\nInternetadresse (eigen
 e Infos im Internet): https://www.diakonie-altenkirchen.de/\nFörderbereich
 : Bildung und Erziehung\nReferent/in: Barbara Stahlheber\, Dipl.-Psycholog
 in\nFachliche Leitung der Beratungsstelle\nAnsprechpartner/in - Leitung: D
 iakonisches Werk des Evangelischen Kirchenkreises Altenkirchen\nBeratungss
 telle für Kinder\, Jugendliche und Erwachsene\nStadthallenweg 16\, 57610 A
 ltenkirchen\nKosten: kostenfrei\nZusatzinformationen: Anmeldung bis zum 31
 .08.2024 \nunter Tel.: 02681 82496 12 oder \nper Mail: info@beratungsstell
 e-altenkirchen.de
DTSTART;TZID=Europe/Berlin:20240911T183000
DTEND;TZID=Europe/Berlin:20240911T203000
LOCATION:Betzdorf: Ev. Gemeindehaus Betzdorf
SUMMARY:Psychische Erkrankung im Kinder- und Jugendalter :: Handlungsorient
 ierungen für Schulsozialarbeiter*innen und pädagogische Fachkräfte bei Dia
 gnosen im Kinder- und Jugendalter
URL:https://termine.ekir.de/veranstaltung_im_detail819592.html
END:VEVENT
END:VCALENDAR
