BEGIN:VCALENDAR
VERSION:2.0
PRODID:-//evangelische-termine.de//NONSGML kigkonsult.se iCalcreator 2.18//
CALSCALE:GREGORIAN
METHOD:PUBLISH
X-WR-CALNAME:iCal Evangelische-Termine 20.04.2026
X-WR-CALDESC:iCalender von Evangelische-Termine (20.04.2026)
X-WR-TIMEZONE:Europe/Berlin
X-MS-OLK-FORCEINSPECTOROPEN:TRUE
BEGIN:VTIMEZONE
TZID:Europe/Berlin
BEGIN:STANDARD
DTSTART:19701025T030000
TZOFFSETFROM:+0200
TZOFFSETTO:+0100
RRULE:FREQ=YEARLY;BYDAY=-1SU;BYMONTH=10
TZNAME:CET
END:STANDARD
BEGIN:DAYLIGHT
DTSTART:19700329T020000
TZOFFSETFROM:+0100
TZOFFSETTO:+0200
RRULE:FREQ=YEARLY;BYDAY=-1SU;BYMONTH=3
TZNAME:CEST
END:DAYLIGHT
END:VTIMEZONE
BEGIN:VEVENT
UID:20240918T180000-819593@evangelische-termine.de
DTSTAMP:20260420T002350Z
DESCRIPTION:\nKirchenkreis: überregional\nArt der Veranstaltung: Fortbildun
 gen / Seminare / Vorträge\nVeranstaltungsort: Ev. Gemeindehaus Betzdorf\nS
 t. Barbara Straße 16\n57518 Betzdorf\nKurzbeschreibung / Untertitel: Handl
 ungsorientierungen für Schulsozialarbeiter*innen und pädagogische Fachkräf
 te bei Diagnosen im Kinder- und Jugendalter\nAusführliche Beschreibung: Se
 lbstsicherheit ist uns nicht angeboren\, sondern wird erlernt. Dies bietet
  uns allen die Chance\, das eigene Verhalten zu reflektieren und eine posi
 tive Entwicklung herbeizuführen.\nIm Kurs wird theoretisches Wissen vermit
 telt\, der Schwerpunkt liegt aber auf praktischen Übungen\, die anhand von
  Alltagssituationen durchgeführt werden. \nDie feste Gruppe bietet den Tei
 lnehmer:innen hierbei einen sicheren Rahmen.\nEin Kurs mit 4 Terminen\, je
 weils mittwochs von 18.00-20.00 Uhr.\nInternetadresse (eigene Infos im Int
 ernet): https://www.diakonie-altenkirchen.de/\nFörderbereich: Lebensgestal
 tende Bildung\, Existenzfragen\, einschließlich der Bereiche der soz. u.. 
 interkulturellen Beziehungen\nReferent/in: Brigitte Schulz-Wagner\, Dipl. 
 Sozialpädagogin\nAnsprechpartner/in - Leitung: Diakonisches Werk des Evang
 elischen Kirchenkreises Altenkirchen\nBeratungsstelle für Kinder\, Jugendl
 iche und Erwachsene\nStadthallenweg 16\, 57610 Altenkirchen\nKosten: koste
 nfrei\nZusatzinformationen: Anmeldung bis zum 31.08.2024 \nunter Tel.: 026
 81 82496 12 oder \nper Mail: info@beratungsstelle-altenkirchen.de
DTSTART;TZID=Europe/Berlin:20240918T180000
DTEND;TZID=Europe/Berlin:20240918T200000
LOCATION:Betzdorf: Ev. Gemeindehaus Betzdorf
SUMMARY:Selbstsicherheits-Training :: Geeignet für alle\, die ihre soziale 
 Kompetenz stärken möchten\,um somit in den verschiedensten Lebensbereichen
  Selbstsicherheit gewinnen zu können.
URL:https://termine.ekir.de/veranstaltung_im_detail819593.html
END:VEVENT
END:VCALENDAR
