BEGIN:VCALENDAR
VERSION:2.0
PRODID:-//evangelische-termine.de//NONSGML kigkonsult.se iCalcreator 2.18//
CALSCALE:GREGORIAN
METHOD:PUBLISH
X-WR-CALNAME:iCal Evangelische-Termine 20.04.2026
X-WR-CALDESC:iCalender von Evangelische-Termine (20.04.2026)
X-WR-TIMEZONE:Europe/Berlin
X-MS-OLK-FORCEINSPECTOROPEN:TRUE
BEGIN:VTIMEZONE
TZID:Europe/Berlin
BEGIN:STANDARD
DTSTART:19701025T030000
TZOFFSETFROM:+0200
TZOFFSETTO:+0100
RRULE:FREQ=YEARLY;BYDAY=-1SU;BYMONTH=10
TZNAME:CET
END:STANDARD
BEGIN:DAYLIGHT
DTSTART:19700329T020000
TZOFFSETFROM:+0100
TZOFFSETTO:+0200
RRULE:FREQ=YEARLY;BYDAY=-1SU;BYMONTH=3
TZNAME:CEST
END:DAYLIGHT
END:VTIMEZONE
BEGIN:VEVENT
UID:20241112T153000-819595@evangelische-termine.de
DTSTAMP:20260419T225931Z
DESCRIPTION:\nKirchenkreis: Simmern-Trarbach\nArt der Veranstaltung: Fortbi
 ldungen / Seminare / Vorträge\nVeranstaltungsort: Ev. Erwachsenenbildungsw
 erk Rheinland-Süd e.V.\, Simmern\nHerzog-Reichard-Str. 30\n55469 Simmern\n
 Kurzbeschreibung / Untertitel: Gedanken\, Inspirationen\, Impulse oder Gla
 ubenssprüche schön gestalten an drei Abenden\nAusführliche Beschreibung: D
 er Kurs wird aufbauend stattfinden. Wir beschäftigen uns teilweise mit der
  Schriftgeschichte und parallel dazu werden wir unsere ersten handgeletter
 ten Buchstaben schreiben üben. Nachdem wir uns Texte oder Sprüche gesucht 
 haben\, die wir als Letterings gestalten wollen\, werden wir uns mit Kompo
 sitionen und Hintergrundgestaltungen beschäftigen. Ziel des Kurses ist das
  selbständige Gestalten eigener Schriftkunstwerke für Karten\, Bilder\, Sc
 hilder usw.\nDie Termine sind:\n> Dienstag\, 12.11.24\, 15.30 bis 17.30 Uh
 r\n> Dienstag\, 19.11.24\, 15.30 bis 17.30 Uhr\n> Dienstag\, 26.11.24\, 15
 .30 bis 17.30 Uhr\nFörderbereich: Sonstiges\nReferent/in: Carola Schick\, 
 Bildungsreferentin im eeb und Schriftsetzerin\nAnsprechpartner/in - Leitun
 g: Carola Schick\nKosten: 30\,– €\nZusatzinformationen: Der Preis ist zzgl
 . Material. Bitte bringen Sie eigene Stifte und Materialien gerne mit.\n: 
DTSTART;TZID=Europe/Berlin:20241112T153000
DTEND;TZID=Europe/Berlin:20241112T173000
LOCATION:Simmern: Ev. Erwachsenenbildungswerk Rheinland-Süd e.V.\, Simmern
SUMMARY:Schick-Lettern – Handlettering ein kreativer Trend? Finden Sie es h
 eraus! :: Gedanken\, Inspirationen\, Impulse oder Glaubenssprüche schön ge
 stalten
URL:https://termine.ekir.de/veranstaltung_im_detail819595.html
END:VEVENT
END:VCALENDAR
