BEGIN:VCALENDAR
VERSION:2.0
PRODID:-//evangelische-termine.de//NONSGML kigkonsult.se iCalcreator 2.18//
CALSCALE:GREGORIAN
METHOD:PUBLISH
X-WR-CALNAME:iCal Evangelische-Termine 20.04.2026
X-WR-CALDESC:iCalender von Evangelische-Termine (20.04.2026)
X-WR-TIMEZONE:Europe/Berlin
X-MS-OLK-FORCEINSPECTOROPEN:TRUE
BEGIN:VTIMEZONE
TZID:Europe/Berlin
BEGIN:STANDARD
DTSTART:19701025T030000
TZOFFSETFROM:+0200
TZOFFSETTO:+0100
RRULE:FREQ=YEARLY;BYDAY=-1SU;BYMONTH=10
TZNAME:CET
END:STANDARD
BEGIN:DAYLIGHT
DTSTART:19700329T020000
TZOFFSETFROM:+0100
TZOFFSETTO:+0200
RRULE:FREQ=YEARLY;BYDAY=-1SU;BYMONTH=3
TZNAME:CEST
END:DAYLIGHT
END:VTIMEZONE
BEGIN:VEVENT
UID:20241009T140000-819597@evangelische-termine.de
DTSTAMP:20260420T003633Z
DESCRIPTION:\nKirchenkreis: überregional\nArt der Veranstaltung: Fortbildun
 gen / Seminare / Vorträge\nVeranstaltungsort: Ev. Erwachsenenbildungswerk 
 Rheinland-Süd e.V.\, Simmern\nHerzog-Reichard-Str. 30\n55469 Simmern\nKurz
 beschreibung / Untertitel: Bei dieser Veranstaltung können Sie alle Fragen
  zum Thema Schwangerschaft oder Elternschaft stellen.\nAusführliche Beschr
 eibung: Eine spannende\, aufregende\, aber auch komplizierte und herausfor
 dernde Zeit liegt vor euch. Viele Dinge von Babyausstattung über Hebammenb
 egleitung\, von Geburt über Wochenbett und Bedürfnisse von Babys wollen be
 dacht werden – in Zeiten von Google und Influencer-Eltern gar nicht so ein
 fach! \nWir möchten euch einen Weg durch den Must-Have-Dschungel zeigen\, 
 und euch einen roten Faden an die Hand geben\, der euch durch Schwangersch
 aft\, Geburt\, Wochenbett und das erste Jahr mit dem Baby führen kann.  \n
 Wer sind wir?\nChristiane Mahler\, Mutter von 3 Töchtern – Krankenschweste
 r und Hebamme Eva Wolf\, Mutter von 3 Töchtern und einem Sohn - Diplom-Päd
 agogin\, PEKiP-Gruppenleiterin und Trageberaterin\n\nDiese Veranstaltung w
 ird gefördert durch die Lottostiftung Rheinland-Pfalz\nFörderbereich: Lebe
 nsformen\, Partnerschaft\, Ehe\, Familie\nReferent/in: Christiane Mahler\,
  examinierte Krankenschwester mit über 15 Jahren\nEinsatz auf der Intensiv
 station und Hebamme\nEva Wolf\, Diplom Pädagogin\, PEKiP-Gruppenleiterin u
 nd Trageberaterin\nAnsprechpartner/in - Leitung: Carola Schick\nKosten: fr
 eiwilliger Beitrag\nZusatzinformationen: Anmeldung bis 02.10.2024\n: 
DTSTART;TZID=Europe/Berlin:20241009T140000
DTEND;TZID=Europe/Berlin:20241009T173000
LOCATION:Simmern: Ev. Erwachsenenbildungswerk Rheinland-Süd e.V.\, Simmern
SUMMARY:Hilfe\, wir werden eine Familie…?! :: Bei dieser Veranstaltung könn
 en Sie alle Fragen zum Thema Schwangerschaft oder Elternschaft stellen.
URL:https://termine.ekir.de/veranstaltung_im_detail819597.html
END:VEVENT
END:VCALENDAR
