BEGIN:VCALENDAR
VERSION:2.0
PRODID:-//evangelische-termine.de//NONSGML kigkonsult.se iCalcreator 2.18//
CALSCALE:GREGORIAN
METHOD:PUBLISH
X-WR-CALNAME:iCal Evangelische-Termine 20.04.2026
X-WR-CALDESC:iCalender von Evangelische-Termine (20.04.2026)
X-WR-TIMEZONE:Europe/Berlin
X-MS-OLK-FORCEINSPECTOROPEN:TRUE
BEGIN:VTIMEZONE
TZID:Europe/Berlin
BEGIN:STANDARD
DTSTART:19701025T030000
TZOFFSETFROM:+0200
TZOFFSETTO:+0100
RRULE:FREQ=YEARLY;BYDAY=-1SU;BYMONTH=10
TZNAME:CET
END:STANDARD
BEGIN:DAYLIGHT
DTSTART:19700329T020000
TZOFFSETFROM:+0100
TZOFFSETTO:+0200
RRULE:FREQ=YEARLY;BYDAY=-1SU;BYMONTH=3
TZNAME:CEST
END:DAYLIGHT
END:VTIMEZONE
BEGIN:VEVENT
UID:20241109T093000-819716@evangelische-termine.de
DTSTAMP:20260419T230054Z
DESCRIPTION:\nKirchenkreis: überregional\nVeranstaltungsort: Gemeindehaus d
 er Ev. Kirchengemeinde Kirn\nHedwigsgärten 2\n55606 Kirn\nKurzbeschreibung
  / Untertitel: Ein Kurs für das Umsorgen von schwerkranken und sterbenden 
 Menschen am Lebensende.\nAusführliche Beschreibung: Letzte Hilfe\, was ist
  das? Erste-Hilfe kennen wir alle.\nAber nicht nur der Weg zum Leben brauc
 ht Hilfe und Zuwendung sondern auch der Weg zum Sterben.\nWie können Mensc
 hen in direkter Nähe andere Menschen auf diesem letzten Weg begleiten. Der
  Kurs vermittelt in 4 Modulen Basiswissen und Orientierungen sowie einfach
 e Handgriffe. Sterbebegleitung ist praktizierte Mitmenschlichkeit. Der Kur
 s soll ermutigen sich Sterbenden zuzuwenden. Zuwendung ist das\, was wir a
 m Lebensende am meisten brauchen.\n\nDer Kurs richtet sich an ALLE Mensche
 n\, die sich über die Themen rund um das Sterben\, Tod und Palliativ-Verso
 rgung informieren wollen. Er soll Wissen schaffen und Sicherheit geben\, f
 ür eine sorgende Gesellschaft. Er soll Grundlagen schaffen und helfen\, di
 e allgemeine ambulante Palliativ-Versorgung zu verbessern.\n\nDie einzelne
 n Module beinhalten:\n1. Sterben als ein Teil des Lebens\n2. Vorsorgen und
  entscheiden\n3. Leiden lindern\n4. Abschied nehmen\n\nDer Kurs ist nicht 
 als Fortbildung für ausgebildete Pflegefachkräfte konzipiert.\nInternetadr
 esse (eigene Infos im Internet): https://www.letztehilfe.info\nFörderberei
 ch: Soziale Fragen und soziale Dienste\nReferent/in: Jana Morenz-Meyer\, N
 icole Setz\, Mitarbeiterinnen des Christlich Ambulanten Hospizdienst an de
 r Nahe\nAnsprechpartner/in - Leitung: Carola Schick\nKosten: freiwilliger 
 Beitrag\nZusatzinformationen: Anmeldung bis 01.11.2024\; Um eine frühzeiti
 ge Anmeldung wird gebeten\, da die Teilnehmendenzahl auf max. 12 begrenzt 
 ist.\n: 
DTSTART;TZID=Europe/Berlin:20241109T093000
DTEND;TZID=Europe/Berlin:20241109T133000
LOCATION:Kirn: Gemeindehaus der Ev. Kirchengemeinde Kirn
SUMMARY:Letzte Hilfe Kurs – Am Ende wissen wie es geht :: Ein Kurs für das 
 Umsorgen von schwerkranken und sterbenden Menschen am Lebensende.
URL:https://termine.ekir.de/veranstaltung_im_detail819716.html
END:VEVENT
END:VCALENDAR
