BEGIN:VCALENDAR
VERSION:2.0
PRODID:-//evangelische-termine.de//NONSGML kigkonsult.se iCalcreator 2.18//
CALSCALE:GREGORIAN
METHOD:PUBLISH
X-WR-CALNAME:iCal Evangelische-Termine 20.04.2026
X-WR-CALDESC:iCalender von Evangelische-Termine (20.04.2026)
X-WR-TIMEZONE:Europe/Berlin
X-MS-OLK-FORCEINSPECTOROPEN:TRUE
BEGIN:VTIMEZONE
TZID:Europe/Berlin
BEGIN:STANDARD
DTSTART:19701025T030000
TZOFFSETFROM:+0200
TZOFFSETTO:+0100
RRULE:FREQ=YEARLY;BYDAY=-1SU;BYMONTH=10
TZNAME:CET
END:STANDARD
BEGIN:DAYLIGHT
DTSTART:19700329T020000
TZOFFSETFROM:+0100
TZOFFSETTO:+0200
RRULE:FREQ=YEARLY;BYDAY=-1SU;BYMONTH=3
TZNAME:CEST
END:DAYLIGHT
END:VTIMEZONE
BEGIN:VEVENT
UID:20241128T103000-819921@evangelische-termine.de
DTSTAMP:20260419T230101Z
DESCRIPTION:\nKirchenkreis: überregional\nArt der Veranstaltung: Fortbildun
 gen / Seminare / Vorträge\nVeranstaltungsort: online\n- -\nKurzbeschreibun
 g / Untertitel: KI und ihre Tücken …\nAusführliche Beschreibung: Generativ
 e Künstliche Intelligenz gibt uns von der Entwicklung von Konzepten über d
 ie Optimierung von Texten bis hin zur Erstellung von Wertbildern (siehe da
 s Bild in diesem Beitrag) einige Möglichkeiten unser berufliches und alltä
 gliches Leben zu vereinfachen. Allerdings gibt es neben diesen positiven B
 eispielen auch Möglichkeiten KI’s für Täuschung und kriminelle Absichten d
 urch generierte Bilder und Videos zu missbrauchen.\n\nWir laden Sie dazu e
 in sich auf die Welt der Künstlichen Intelligenz einzulassen. „Lassen sich
  Fake News und KI-Inhalte als diese entlarven und wenn ja\, wie?” und „Wie
  können wir mit der ständigen Weiterentwicklung Künstlicher Intelligenz um
 gehen?”\, sind einige Fragestellungen zu denen wir uns austauschen möchten
 .\n\nWir nutzen die Videokonferenzsoftware Zoom. Wie Zoom funktioniert\, e
 rfahren Sie hier (https://t1p.de/c86ap).\nMit dieser Software lässt sich d
 ie Schriftgröße im Chat anpassen. Wir werden während der Veranstaltung den
  Teilnehmenden die Präsentation über Bildschirmfreigabe zur Verfügung stel
 len. Wenn Sie durch Gebärdendolmetscher:innen bei der Teilnahme unterstütz
 t werden\, können Sie mit Zoom Ihre Ansicht entsprechend anpassen.\n\nDies
 es Angebot findet im Rahmen des Projekts “Barrierefreiheit in der digitale
 n Weiterbildung: Handlungsempfehlungen” statt und wird gefördert vom Minis
 terium für Arbeit\, Soziales\, Transformation und Digitalisierung Rheinlan
 d-Pfalz (MASTD).\nInternetadresse (eigene Infos im Internet): https://elag
 .de/ki-und-fake-news/\nFörderbereich: Berufliche Bildung\nReferent/in: Chr
 istian Gisinger ELAG Digitalisierungsbeauftragter\nAnsprechpartner/in - Le
 itung: Christian Gisinger ELAG Digitalisierungsbeauftragter\nKosten: koste
 nfrei\nZusatzinformationen: Anmeldung unter https://elag.de/ki-und-fake-ne
 ws/
DTSTART;TZID=Europe/Berlin:20241128T103000
DTEND;TZID=Europe/Berlin:20241128T120000
LOCATION:-: online
SUMMARY:KI und Fake News :: KI und ihre Tücken …
URL:https://termine.ekir.de/veranstaltung_im_detail819921.html
END:VEVENT
END:VCALENDAR
