BEGIN:VCALENDAR
VERSION:2.0
PRODID:-//evangelische-termine.de//NONSGML kigkonsult.se iCalcreator 2.18//
CALSCALE:GREGORIAN
METHOD:PUBLISH
X-WR-CALNAME:iCal Evangelische-Termine 20.04.2026
X-WR-CALDESC:iCalender von Evangelische-Termine (20.04.2026)
X-WR-TIMEZONE:Europe/Berlin
X-MS-OLK-FORCEINSPECTOROPEN:TRUE
BEGIN:VTIMEZONE
TZID:Europe/Berlin
BEGIN:STANDARD
DTSTART:19701025T030000
TZOFFSETFROM:+0200
TZOFFSETTO:+0100
RRULE:FREQ=YEARLY;BYDAY=-1SU;BYMONTH=10
TZNAME:CET
END:STANDARD
BEGIN:DAYLIGHT
DTSTART:19700329T020000
TZOFFSETFROM:+0100
TZOFFSETTO:+0200
RRULE:FREQ=YEARLY;BYDAY=-1SU;BYMONTH=3
TZNAME:CEST
END:DAYLIGHT
END:VTIMEZONE
BEGIN:VEVENT
UID:20241104T100000-819923@evangelische-termine.de
DTSTAMP:20260419T225943Z
DESCRIPTION:\nKirchenkreis: überregional\nArt der Veranstaltung: Fortbildun
 gen / Seminare / Vorträge\nVeranstaltungsort: Ev. Arbeitsstelle Bildung un
 d Gesellschaft Kaiserslautern\nUnionstraße 1\n67657 Kaiserslautern\nKurzbe
 schreibung / Untertitel: Gemeinsam mit Sabine Keller (SWR) Interviewtechni
 ken kennenlernen\, Drehbücher für Sozialmedia-Reels und Videos planen und 
 praktisch ausprobieren.\nAusführliche Beschreibung: Von der Planung bis zu
 m fertig vertont und geschnittenen Film. Gemeinsam mit Sabine Keller (SWR)
  werden wir in dem 2-tages Workshop Interviewtechniken kennenlernen. Es we
 rden Drehbücher für Sozialmedia-Reels und Videos geplant und praktisch umg
 esetzt. Alles bis zum fertig vertont und geschnittenen Film.\nFörderbereic
 h: Berufliche Bildung\nReferent/in: Christian Gisinger ELAG Digitalisierun
 gsbeauftragter\nSabine Keller (SWR)\nAnsprechpartner/in - Leitung: Christi
 an Gisinger ELAG Digitalisierungsbeauftragter\nKosten: kostenfrei\nZusatzi
 nformationen: Anmeldung zum 28.10.2024\n: 
DTSTART;TZID=Europe/Berlin:20241104T100000
DTEND;TZID=Europe/Berlin:20241105T170000
LOCATION:Kaiserslautern: Ev. Arbeitsstelle Bildung und Gesellschaft Kaisers
 lautern
SUMMARY:Wie geht eigentlich...ein Video? ABGESAGT! :: Gemeinsam mit Sabine 
 Keller (SWR)
URL:https://termine.ekir.de/veranstaltung_im_detail819923.html
END:VEVENT
END:VCALENDAR
