BEGIN:VCALENDAR
VERSION:2.0
PRODID:-//evangelische-termine.de//NONSGML kigkonsult.se iCalcreator 2.18//
CALSCALE:GREGORIAN
METHOD:PUBLISH
X-WR-CALNAME:iCal Evangelische-Termine 20.04.2026
X-WR-CALDESC:iCalender von Evangelische-Termine (20.04.2026)
X-WR-TIMEZONE:Europe/Berlin
X-MS-OLK-FORCEINSPECTOROPEN:TRUE
BEGIN:VTIMEZONE
TZID:Europe/Berlin
BEGIN:STANDARD
DTSTART:19701025T030000
TZOFFSETFROM:+0200
TZOFFSETTO:+0100
RRULE:FREQ=YEARLY;BYDAY=-1SU;BYMONTH=10
TZNAME:CET
END:STANDARD
BEGIN:DAYLIGHT
DTSTART:19700329T020000
TZOFFSETFROM:+0100
TZOFFSETTO:+0200
RRULE:FREQ=YEARLY;BYDAY=-1SU;BYMONTH=3
TZNAME:CEST
END:DAYLIGHT
END:VTIMEZONE
BEGIN:VEVENT
UID:20240924T140000-819924@evangelische-termine.de
DTSTAMP:20260420T000923Z
DESCRIPTION:\nKirchenkreis: überregional\nArt der Veranstaltung: Fortbildun
 gen / Seminare / Vorträge\nVeranstaltungsort: online\n- -\nKurzbeschreibun
 g / Untertitel: Gemeinsam mit Michaela Weiß (Medien-Leuchtturm) werden wir
  Fragestellungen wie „Was gibt es auf Facebook und Instagram zu beachten i
 n puncto Datenschutz?”\nAusführliche Beschreibung: ChatGPT – Ein Tool\, da
 s 2023 die öffentliche Aufmerksamkeit im Bereich der künstlichen Intellige
 nz dominierte. Die Möglichkeiten des Chatbots reichen von der Erstellung k
 urzer Zusammenfassungen\, über die Entwicklung von Konzepten bis hin zu si
 mpleren Anfragen wie Rezeptideen oder Witzen. Doch können KI-Tools neben a
 ll diesen Möglichkeiten auch für die Bildungsarbeit eingesetzt werden?\n\n
 Am 16. Juli werden wir von 10.00 bis 12.00 Uhr per Zoom einige KI-Tools un
 ter die Lupe nehmen und uns über ihre Möglichkeiten sowie den Einsatz in u
 nseren Veranstaltungen austauschen. Die Veranstaltung ist in erster Linie 
 an Teilnehmende gerichtet die noch wenig Erfahrung mit der Nutzung von Too
 ls wie ChatGPT gemacht haben\, diese aber in ihre Veranstaltungsplanung un
 d -gestaltung integrieren wollen.\n\nDieses Angebot findet im Rahmen des P
 rojekts “Barrierefreiheit in der digitalen Weiterbildung: Handlungsempfehl
 ungen” statt und wird gefördert vom Ministerium für Arbeit\, Soziales\, Tr
 ansformation und Digitalisierung Rheinland-Pfalz (MASTD).\nInternetadresse
  (eigene Infos im Internet): https://elag.de/datenschutz-und-social-media/
 \nFörderbereich: Berufliche Bildung\nReferent/in: Michaela Weiß (Medien-Le
 uchtturm) und Christian Gisinger (ELAG)\nAnsprechpartner/in - Leitung: Chr
 istian Gisinger ELAG Digitalisierungsbeauftragter\nKosten: kostenfrei\nZus
 atzinformationen: Anmeldung unter https://elag.de/datenschutz-und-social-m
 edia/
DTSTART;TZID=Europe/Berlin:20240924T140000
DTEND;TZID=Europe/Berlin:20240924T153000
LOCATION:-: online
SUMMARY:Datenschutz und Social-Media :: Gemeinsam mit Michaela Weiß (Medien
 -Leuchtturm) werden wir Fragestellungen wie „Was gibt es auf Facebook und 
 Instagram zu beachten in puncto Datenschu
URL:https://termine.ekir.de/veranstaltung_im_detail819924.html
END:VEVENT
END:VCALENDAR
