BEGIN:VCALENDAR
VERSION:2.0
PRODID:-//evangelische-termine.de//NONSGML kigkonsult.se iCalcreator 2.18//
CALSCALE:GREGORIAN
METHOD:PUBLISH
X-WR-CALNAME:iCal Evangelische-Termine 20.04.2026
X-WR-CALDESC:iCalender von Evangelische-Termine (20.04.2026)
X-WR-TIMEZONE:Europe/Berlin
X-MS-OLK-FORCEINSPECTOROPEN:TRUE
BEGIN:VTIMEZONE
TZID:Europe/Berlin
BEGIN:STANDARD
DTSTART:19701025T030000
TZOFFSETFROM:+0200
TZOFFSETTO:+0100
RRULE:FREQ=YEARLY;BYDAY=-1SU;BYMONTH=10
TZNAME:CET
END:STANDARD
BEGIN:DAYLIGHT
DTSTART:19700329T020000
TZOFFSETFROM:+0100
TZOFFSETTO:+0200
RRULE:FREQ=YEARLY;BYDAY=-1SU;BYMONTH=3
TZNAME:CEST
END:DAYLIGHT
END:VTIMEZONE
BEGIN:VEVENT
UID:20240919T150000-819926@evangelische-termine.de
DTSTAMP:20260420T001042Z
DESCRIPTION:\nKirchenkreis: überregional\nArt der Veranstaltung: Fortbildun
 gen / Seminare / Vorträge\nVeranstaltungsort: Haus der Stille\nMelsbacher 
 Hohl 5\n56579 Rengsdorf\nKurzbeschreibung / Untertitel: Wenn nach dem Verl
 ust eines Menschen plötzlich alles anders ist.\nAusführliche Beschreibung:
  Wenn plötzlich alles anders ist und ich doch weiß\, es muss irgendwie wei
 tergehen ... Wenn Freunde\, Familie\, Nachbarn nicht wissen\, wie sie mir 
 begegnen sollen\, wenn die Worte fehlen und im Laufe der Monate auch das V
 erständnis für mein Traurig-Sein schwindet\; wenn ich immer wieder festste
 lle\, wo mir im Alltag mein:e verstorbene:r Partner:in fehlt und ich Dinge
  selbst regeln lernen muss\; wenn ich doch die Erinnerung an gemeinsame Er
 lebnisse nicht verlieren\, sondern bewusst bewahren möchte... Diese Einkeh
 rzeit für Trauernde im Haus der Stille bietet Raum zum Sich-Selbst-Finden\
 , zum Erinnern und dafür\, mit Menschen darüber in den Austausch zu kommen
 . Wir gehen auf die Suche nach Zeichen von Gottes Nähe in unserer jeweilig
 en Situation und nach Kraftquellen\, die uns tragen. Stille-Zeiten in der 
 Gruppe  (auch in der Natur)\, kreative Angebote\, Achtsamkeitsimpulse und 
 die Möglichkeit zum Einzelgespräch strukturieren die Tage. Nach Ihrer Anme
 ldung nimmt die Kursleiterin noch Kontakt zu Ihnen auf um zu klären\, ob I
 hr Bedarf und das Kursangebot zusammenpassen.\nInternetadresse (eigene Inf
 os im Internet): https://termine.ekir.de/rueckmeldeformular28-736640\nFörd
 erbereich: Lebensgestaltende Bildung\, Existenzfragen\, einschließlich der
  Bereiche der soz. u.. interkulturellen Beziehungen\nReferent/in: Christia
 n Sandner\, Pfarrer i.R.\, GB*: Cornelia Schlatzke\, Dipl.Sozialpädagogin
 \nMönchengladbach: Bad Neuenahr\n\nAnsprechpartner/in - Leitung: per E-Mai
 l an: anmeldung.hds@ekir.de\noder via Website: https://termine.ekir.de/rue
 ckmeldeformular28-736640\nKosten: 394\,– € inkl. Unterkunft und Verpflegun
 g\nZusatzinformationen: Anmeldung an anmeldung.hds@ekir.de\noder via Websi
 te: https://termine.ekir.de/rueckmeldeformular28-735609
DTSTART;TZID=Europe/Berlin:20240919T150000
DTEND;TZID=Europe/Berlin:20240922T140000
LOCATION:Rengsdorf: Haus der Stille
SUMMARY:In der Trauer bist du mir nah :: Wenn nach dem Verlust eines Mensch
 en plötzlich alles anders ist.
URL:https://termine.ekir.de/veranstaltung_im_detail819926.html
END:VEVENT
END:VCALENDAR
