BEGIN:VCALENDAR
VERSION:2.0
PRODID:-//evangelische-termine.de//NONSGML kigkonsult.se iCalcreator 2.18//
CALSCALE:GREGORIAN
METHOD:PUBLISH
X-WR-CALNAME:iCal Evangelische-Termine 23.04.2026
X-WR-CALDESC:iCalender von Evangelische-Termine (23.04.2026)
X-WR-TIMEZONE:Europe/Berlin
X-MS-OLK-FORCEINSPECTOROPEN:TRUE
BEGIN:VTIMEZONE
TZID:Europe/Berlin
BEGIN:STANDARD
DTSTART:19701025T030000
TZOFFSETFROM:+0200
TZOFFSETTO:+0100
RRULE:FREQ=YEARLY;BYDAY=-1SU;BYMONTH=10
TZNAME:CET
END:STANDARD
BEGIN:DAYLIGHT
DTSTART:19700329T020000
TZOFFSETFROM:+0100
TZOFFSETTO:+0200
RRULE:FREQ=YEARLY;BYDAY=-1SU;BYMONTH=3
TZNAME:CEST
END:DAYLIGHT
END:VTIMEZONE
BEGIN:VEVENT
UID:20241211T180000-820012@evangelische-termine.de
DTSTAMP:20260423T103740Z
DESCRIPTION:\nKirchenkreis: überregional\nArt der Veranstaltung: Fortbildun
 gen / Seminare / Vorträge\nVeranstaltungsort: Haus der Stille\nMelsbacher 
 Hohl 5\n56579 Rengsdorf\nKurzbeschreibung / Untertitel: Einzelexerzitien i
 n der Gruppe\nAusführliche Beschreibung: In der Mitte des Advents laden wi
 r ein\, sich zu unterbrechen und aufmerksam zu werden für die leisen Stimm
 en in uns. Denn: „Wird Christus tausendmal zu Bethlehem geboren und nicht 
 in dir\, du bleibst doch ewiglich verloren“\, wusste der schlesische Theol
 oge Angelus Silesius schon im 17. Jahrhundert. Die Geburt des Heilandes ge
 schieht abseits von Trubel und Geschäftigkeit. Das Kommen Gottes braucht u
 nser Hinhören.\nEinzelexerzitien geben in diesem Kurs Raum\, der eigenen S
 ehnsucht und Lebensspur zu folgen\, im Vertrauen darauf\, dass Gott sich f
 inden lässt in allem\, was sich zeigt. Am Mittwochabend führen wir in die 
 Exerzitien ein. Danach schweigen wir durchgehend. Morgenimpulse\, tägliche
  Einzelgespräche\, Übungen zur Körperwahrnehmung und die Abendandachten un
 terstützen den eigenen Weg und strukturieren den Tag und die Zeit zur pers
 önlichen Einkehr. Hier bieten sich Bibellese/Schriftbetrachtung\, Gebet\, 
 Meditation\, Spaziergang und kreativer Ausdruck an. Eine Mahlfeier am Sonn
 tag rundet die Exerzitien ab.\nInternetadresse (eigene Infos im Internet):
  https://termine.ekir.de/rueckmeldeformular28-736656\nFörderbereich: Leben
 sgestaltende Bildung\, Existenzfragen\, einschließlich der Bereiche der so
 z. u.. interkulturellen Beziehungen\nReferent/in: Birgit Clüsserath\, GB\,
  Dozentin\, Coach: Ulrike Stürmlinger\, Pfarrerin i.R.\, Ausbildung Spirit
 uelles Körperlernen\, GB*\nMoers: Straelen-Wachtendonk\n\nAnsprechpartner/
 in - Leitung: Haus der Stille\, Melsbacher Hohl 5\, 56579 Rengsdorf\nKoste
 n: 502\,– € inkl. Unterkunft und Verpflegung\nZusatzinformationen: per E-M
 ail an: anmeldung.hds@ekir.de\noder via Website: https://termine.ekir.de/r
 ueckmeldeformular28-736656
DTSTART;TZID=Europe/Berlin:20241211T180000
DTEND;TZID=Europe/Berlin:20241215T150000
LOCATION:Rengsdorf: Haus der Stille
SUMMARY:Gottes Kommen braucht ein hörendes Herz :: Einzelexerzitien in der 
 Gruppe
URL:https://termine.ekir.de/veranstaltung_im_detail820012.html
END:VEVENT
END:VCALENDAR
