BEGIN:VCALENDAR
VERSION:2.0
PRODID:-//evangelische-termine.de//NONSGML kigkonsult.se iCalcreator 2.18//
CALSCALE:GREGORIAN
METHOD:PUBLISH
X-WR-CALNAME:iCal Evangelische-Termine 21.04.2026
X-WR-CALDESC:iCalender von Evangelische-Termine (21.04.2026)
X-WR-TIMEZONE:Europe/Berlin
X-MS-OLK-FORCEINSPECTOROPEN:TRUE
BEGIN:VTIMEZONE
TZID:Europe/Berlin
BEGIN:STANDARD
DTSTART:19701025T030000
TZOFFSETFROM:+0200
TZOFFSETTO:+0100
RRULE:FREQ=YEARLY;BYDAY=-1SU;BYMONTH=10
TZNAME:CET
END:STANDARD
BEGIN:DAYLIGHT
DTSTART:19700329T020000
TZOFFSETFROM:+0100
TZOFFSETTO:+0200
RRULE:FREQ=YEARLY;BYDAY=-1SU;BYMONTH=3
TZNAME:CEST
END:DAYLIGHT
END:VTIMEZONE
BEGIN:VEVENT
UID:20240928T110000-820013@evangelische-termine.de
DTSTAMP:20260421T100418Z
DESCRIPTION:\nKirchenkreis: Simmern-Trarbach\nArt der Veranstaltung: Fortbi
 ldungen / Seminare / Vorträge\nVeranstaltungsort: Spielplatz Ortsmitte Ohl
 weiler\nOrtsmitte\n55469 Ohlweiler\nKurzbeschreibung / Untertitel: Pilgern
  für Frauen – Staunen üben\nAusführliche Beschreibung: In einer lockeren R
 unde möchten wir gemeinsam wandern. \nDie Streckenlänge beträgt ca. 6-8 km
 .\nIm Anschluss laden wir zu einem gemütlichen Beisammensein (wer möchte) 
 mit einem kleinen „Mitbringpicknick“ ein.\nInternetadresse (eigene Infos i
 m Internet): https://simmern-trarbach.ekir.de/inhalt/pilgerinnen-gemeinsam
 -unterwegs/\nFörderbereich: Theologie/Religion\nReferent/in: Susanne Reute
 r\, Ev. Frauen im Kirchenkreis Simmern-Trarbach\nAnsprechpartner/in - Leit
 ung: Susanne Reuter\, Ev. Frauen im Kirchenkreis Simmern-Trarbach\nKosten:
  kostenfrei\nZusatzinformationen: Bitte achten Sie auf wetterfeste Kleidun
 g und Schuhe.\nBei Regen fällt die Wanderung leider aus.\n\nAnmeldung bis 
 spätestens 24.09.2024 unter\nfrauenimkirchenkreis.simtra@ekir.de
DTSTART;TZID=Europe/Berlin:20240928T110000
DTEND;TZID=Europe/Berlin:20240928T150000
LOCATION:Ohlweiler: Spielplatz Ortsmitte Ohlweiler
SUMMARY:Pilgerinnen gemeinsam unterwegs :: Pilgern für Frauen – Staunen übe
 n
URL:https://termine.ekir.de/veranstaltung_im_detail820013.html
END:VEVENT
END:VCALENDAR
