BEGIN:VCALENDAR
VERSION:2.0
PRODID:-//evangelische-termine.de//NONSGML kigkonsult.se iCalcreator 2.18//
CALSCALE:GREGORIAN
METHOD:PUBLISH
X-WR-CALNAME:iCal Evangelische-Termine 21.04.2026
X-WR-CALDESC:iCalender von Evangelische-Termine (21.04.2026)
X-WR-TIMEZONE:Europe/Berlin
X-MS-OLK-FORCEINSPECTOROPEN:TRUE
BEGIN:VTIMEZONE
TZID:Europe/Berlin
BEGIN:STANDARD
DTSTART:19701025T030000
TZOFFSETFROM:+0200
TZOFFSETTO:+0100
RRULE:FREQ=YEARLY;BYDAY=-1SU;BYMONTH=10
TZNAME:CET
END:STANDARD
BEGIN:DAYLIGHT
DTSTART:19700329T020000
TZOFFSETFROM:+0100
TZOFFSETTO:+0200
RRULE:FREQ=YEARLY;BYDAY=-1SU;BYMONTH=3
TZNAME:CEST
END:DAYLIGHT
END:VTIMEZONE
BEGIN:VEVENT
UID:20240911T190000-820417@evangelische-termine.de
DTSTAMP:20260421T104023Z
DESCRIPTION:\nKirchenkreis: überregional\nArt der Veranstaltung: Fortbildun
 gen / Seminare / Vorträge\nVeranstaltungsort: Caspar-Olevian-Saal in Trier
 \nWilly-Brandt-Platz\n54290 Trier\nKurzbeschreibung / Untertitel: PD Dr. M
 artin Fritz zur Historie\, Hintergründen und Wirkungen endzeitlicher Erzäh
 lungen und dem gegewärtigen Umgang damit.\nAusführliche Beschreibung: Krie
 g und Terror in Nahost\, Krieg in Europa\, Klimakatastrophe… Krise\, wohin
  man schaut. Wie soll das alles weitergehen? Wird nicht alles immer schlim
 mer? Auch bei Gesprächen in der Familie oder unter Freunden schweben diese
  Fragen immer wieder unbeantwortet im Raum und schaffen eine bedrückende A
 tmosphäre.\n\nIm Ethikforum der Evangelischen Kirchengemeinde Trier wird M
 artin Fritz in seinem Vortrag die Historie\, Hintergründe und Wirkungen ap
 okalyptischer Erzählungen beleuchten und Anstöße zu geben versuchen\, wie 
 im Angesicht der gegenwärtigen Krisenlagen mit endzeitlichen Stimmungen um
 gegangen werden kann. Anschließend besteht die Möglichkeit zur Diskussion.
 \nFörderbereich: Politische Bildung\nReferent/in: PD Dr. Martin Fritz\, \n
 Ev. Zentralstelle für Weltanschauungsfragen\, Berlin\nAnsprechpartner/in -
  Leitung: Evangelische Kirchengemeinde Trier - Ethikforum\nKosten: kostenf
 rei\nZusatzinformationen: Keine Anmeldung erforderlich. \nRückfragen an: m
 artin.schulte@ekir.de
DTSTART;TZID=Europe/Berlin:20240911T190000
DTEND;TZID=Europe/Berlin:20240911T210000
LOCATION:Trier: Caspar-Olevian-Saal in Trier
SUMMARY:Ethikforum: Mit der Endzeit Stimmung machen - zur Wiederkehr der Ap
 okalyptik heute :: (Vortrag mit Diskussion)
URL:https://termine.ekir.de/veranstaltung_im_detail820417.html
END:VEVENT
END:VCALENDAR
