BEGIN:VCALENDAR
VERSION:2.0
PRODID:-//evangelische-termine.de//NONSGML kigkonsult.se iCalcreator 2.18//
CALSCALE:GREGORIAN
METHOD:PUBLISH
X-WR-CALNAME:iCal Evangelische-Termine 20.04.2026
X-WR-CALDESC:iCalender von Evangelische-Termine (20.04.2026)
X-WR-TIMEZONE:Europe/Berlin
X-MS-OLK-FORCEINSPECTOROPEN:TRUE
BEGIN:VTIMEZONE
TZID:Europe/Berlin
BEGIN:STANDARD
DTSTART:19701025T030000
TZOFFSETFROM:+0200
TZOFFSETTO:+0100
RRULE:FREQ=YEARLY;BYDAY=-1SU;BYMONTH=10
TZNAME:CET
END:STANDARD
BEGIN:DAYLIGHT
DTSTART:19700329T020000
TZOFFSETFROM:+0100
TZOFFSETTO:+0200
RRULE:FREQ=YEARLY;BYDAY=-1SU;BYMONTH=3
TZNAME:CEST
END:DAYLIGHT
END:VTIMEZONE
BEGIN:VEVENT
UID:20241128T190000-820418@evangelische-termine.de
DTSTAMP:20260419T230208Z
DESCRIPTION:\nKirchenkreis: Trier\nArt der Veranstaltung: Fortbildungen / S
 eminare / Vorträge\nVeranstaltungsort: Café Basilica an der Konstantinbasi
 lika\nKonstantinplatz 10\n54290 Trier\nKurzbeschreibung / Untertitel: Film
  (57min) mit anschließender Aussprache und Diskussion\nAusführliche Beschr
 eibung: Wir begeben uns mit der Künstlerin Anna Poetter alias Anna Steward
  auf eine Pilgerreise 'auf den Spuren des Geldes' zu Gelddruckereien\, Gel
 dgläubigern bis zu den Tempeln der Geldschöpfung. In dem Film ergibt sich 
 aus Blog-Auszügen\, Gesprächen und Bildern ein kaleidoskopartiges Live-Art
 -Kunstwerk\, dass den Glauben an unser Geld erschüttern kann.\nFörderberei
 ch: Gesellschaft\, Politik und Wirtschaft\nReferent/in: Martin Schulte\, E
 vangelische Kirchengemeinde Trier\, \nselbst lange Berufsjahre im Finanzge
 schäft tätig.\nAnsprechpartner/in - Leitung: Evangelische Kirchengemeinde 
 Trier\, Ethikforum\nKosten: kostenfrei\nZusatzinformationen: Keine Anmeldu
 ng erforderlich. \nZahl der Plätze ist begrenzt.
DTSTART;TZID=Europe/Berlin:20241128T190000
DTEND;TZID=Europe/Berlin:20241128T200000
LOCATION:Trier: Café Basilica an der Konstantinbasilika
SUMMARY:Film im Ethikforum: Auf den Spuren des Geldes
URL:https://termine.ekir.de/veranstaltung_im_detail820418.html
END:VEVENT
END:VCALENDAR
