BEGIN:VCALENDAR
VERSION:2.0
PRODID:-//evangelische-termine.de//NONSGML kigkonsult.se iCalcreator 2.18//
CALSCALE:GREGORIAN
METHOD:PUBLISH
X-WR-CALNAME:iCal Evangelische-Termine 20.04.2026
X-WR-CALDESC:iCalender von Evangelische-Termine (20.04.2026)
X-WR-TIMEZONE:Europe/Berlin
X-MS-OLK-FORCEINSPECTOROPEN:TRUE
BEGIN:VTIMEZONE
TZID:Europe/Berlin
BEGIN:STANDARD
DTSTART:19701025T030000
TZOFFSETFROM:+0200
TZOFFSETTO:+0100
RRULE:FREQ=YEARLY;BYDAY=-1SU;BYMONTH=10
TZNAME:CET
END:STANDARD
BEGIN:DAYLIGHT
DTSTART:19700329T020000
TZOFFSETFROM:+0100
TZOFFSETTO:+0200
RRULE:FREQ=YEARLY;BYDAY=-1SU;BYMONTH=3
TZNAME:CEST
END:DAYLIGHT
END:VTIMEZONE
BEGIN:VEVENT
UID:20241107T190000-820419@evangelische-termine.de
DTSTAMP:20260419T230208Z
DESCRIPTION:\nKirchenkreis: Trier\nArt der Veranstaltung: Fortbildungen / S
 eminare / Vorträge\nVeranstaltungsort: Café Basilica an der Konstantinbasi
 lika\nKonstantinplatz 10\n54290 Trier\nKurzbeschreibung / Untertitel: Doku
 mentarfilm (88 min) mit Aussprache und Diskussion\nAusführliche Beschreibu
 ng: In einem leeren Bankgebäude in Frankfurt schildert ein ehemaliger Inve
 stmentbanker seine Sicht auf den professionellen Finanzmarkt: Einblicke in
  die Gesetze einer Parallelwelt\, deren Geschäfte zu globalen Krisen führe
 n können. \nNach dem Film besteht die Gelegenheit zum Austausch.\nFörderbe
 reich: Gesellschaft\, Politik und Wirtschaft\nReferent/in: Martin Schulte\
 , Evangelische Kirchengemeinde Trier\, \nselbst lange Berufsjahre in diese
 m Geschäft tätig.\nAnsprechpartner/in - Leitung: Evangelische Kirchengemei
 nde Trier\, Ethikforum\nKosten: kostenfrei\nZusatzinformationen: Keine Anm
 eldung erforderlich. \nZahl der Plätze ist begrenzt.
DTSTART;TZID=Europe/Berlin:20241107T190000
DTEND;TZID=Europe/Berlin:20241107T200000
LOCATION:Trier: Café Basilica an der Konstantinbasilika
SUMMARY:Film im Ethikforum: Master of the Universe :: Dokumentarfilm (88 mi
 n) mit Aussprache und Diskussion
URL:https://termine.ekir.de/veranstaltung_im_detail820419.html
END:VEVENT
END:VCALENDAR
