BEGIN:VCALENDAR
VERSION:2.0
PRODID:-//evangelische-termine.de//NONSGML kigkonsult.se iCalcreator 2.18//
CALSCALE:GREGORIAN
METHOD:PUBLISH
X-WR-CALNAME:iCal Evangelische-Termine 20.04.2026
X-WR-CALDESC:iCalender von Evangelische-Termine (20.04.2026)
X-WR-TIMEZONE:Europe/Berlin
X-MS-OLK-FORCEINSPECTOROPEN:TRUE
BEGIN:VTIMEZONE
TZID:Europe/Berlin
BEGIN:STANDARD
DTSTART:19701025T030000
TZOFFSETFROM:+0200
TZOFFSETTO:+0100
RRULE:FREQ=YEARLY;BYDAY=-1SU;BYMONTH=10
TZNAME:CET
END:STANDARD
BEGIN:DAYLIGHT
DTSTART:19700329T020000
TZOFFSETFROM:+0100
TZOFFSETTO:+0200
RRULE:FREQ=YEARLY;BYDAY=-1SU;BYMONTH=3
TZNAME:CEST
END:DAYLIGHT
END:VTIMEZONE
BEGIN:VEVENT
UID:20241123T074500-820420@evangelische-termine.de
DTSTAMP:20260419T230208Z
DESCRIPTION:\nKirchenkreis: überregional\nVeranstaltungsort: Diakonisches W
 erk Neuwied\nRheinstr. 69\n56564 Neuwied\nKurzbeschreibung / Untertitel: B
 esuch des jüdischen Museums in Frankfurt\, Stadtführung durch die jüdische
  Altstadt und Besuch eines koscheren Restaurants.\nAusführliche Beschreibu
 ng: Erleben Sie 800 Jahre jüdische Geschichte und Kultur in der Mainmetrop
 ole mit einem Besuch des jüdischen Museums in Frankfurt\, einem Besuch des
  dortigen koscheren Restaurant „life deli“ (nicht im Preis inbegriffen) un
 d einer Stadtführung durch die jüdische Altstadt.\nTauchen Sie mit uns ein
  in diesen wichtigen Teil deutscher Geschichte und Gegenwart. Wir freuen u
 ns auf Sie!\nInternetadresse (eigene Infos im Internet): https://forms.chu
 rchdesk.com/f/FmKFzNOe2W\nFörderbereich: Politik/Gesellschaft\nReferent/in
 : Pfarrer i. R. Werner Zupp und \nPfarrer Tilmann Raithelhuber Ev. Kirchen
 gemeinde Neuwied\nAnsprechpartner/in - Leitung: Ev. Kirchengemeinde Neuwie
 d\, \nEv. Kirchenkreis Wied\, \nDeutsch-Israelischer Freundeskreis Neuwied
  e.V.\nKosten: 55\,– € (Besuch im Restaurant nicht inbegriffen)\nZusatzinf
 ormationen: Anmeldungen bitte über https://forms.churchdesk.com/f/FmKFzNOe
 2W\n\nAbfahrt. 7.45 Uhr an den Gemeindehäusern in der Dierdorfer Straße 65
  und der Engerser Straße 34\, 56564 Neuwied.
DTSTART;TZID=Europe/Berlin:20241123T074500
DTEND;TZID=Europe/Berlin:20241123T190000
LOCATION:Neuwied: Diakonisches Werk Neuwied
SUMMARY:Fahrt ins jüdische Frankfurt :: Besuch des jüdischen Museums in Fra
 nkfurt\, Stadtführung durch die jüdische Altstadt und Besuch eines koscher
 en Restaurants.
URL:https://termine.ekir.de/veranstaltung_im_detail820420.html
END:VEVENT
END:VCALENDAR
