BEGIN:VCALENDAR
VERSION:2.0
PRODID:-//evangelische-termine.de//NONSGML kigkonsult.se iCalcreator 2.18//
CALSCALE:GREGORIAN
METHOD:PUBLISH
X-WR-CALNAME:iCal Evangelische-Termine 20.04.2026
X-WR-CALDESC:iCalender von Evangelische-Termine (20.04.2026)
X-WR-TIMEZONE:Europe/Berlin
X-MS-OLK-FORCEINSPECTOROPEN:TRUE
BEGIN:VTIMEZONE
TZID:Europe/Berlin
BEGIN:STANDARD
DTSTART:19701025T030000
TZOFFSETFROM:+0200
TZOFFSETTO:+0100
RRULE:FREQ=YEARLY;BYDAY=-1SU;BYMONTH=10
TZNAME:CET
END:STANDARD
BEGIN:DAYLIGHT
DTSTART:19700329T020000
TZOFFSETFROM:+0100
TZOFFSETTO:+0200
RRULE:FREQ=YEARLY;BYDAY=-1SU;BYMONTH=3
TZNAME:CEST
END:DAYLIGHT
END:VTIMEZONE
BEGIN:VEVENT
UID:20241118T193000-820489@evangelische-termine.de
DTSTAMP:20260419T225839Z
DESCRIPTION:\nKirchenkreis: überregional\nVeranstaltungsort: Ev. Gemeindeha
 us Sinzig\nDreifaltigkeitsweg 24\n53489 Sinzig\nKurzbeschreibung / Unterti
 tel: Was vermitteln uns Pflanzen in der Bibel?\nAusführliche Beschreibung:
  Wo in der Bibel von Pflanzen die Rede ist\, vermitteln sie vor allem eine
 n Eindruck von der Lebensweise der Menschen im östlichen Mittelmeerraum. D
 och viele Pflanzen waren auch mit religiösen Regeln und kulturellen Gepflo
 genheiten verbunden.\nFörderbereich: Religiöse Bildung\, Religionen\, Theo
 logie\, Ethik\, Grenzfragen\nReferent/in: Margit Büttner\, Pfarrerin i.R.
 \nAnsprechpartner/in - Leitung: Margit Büttner\, Pfarrerin i.R.\nKosten: k
 ostenfrei\nZusatzinformationen: Veranstalter ist der Frauenabendkreis der 
 Ev. Kirchengemeinde Sinzig\nAnmeldung nicht erforderlich
DTSTART;TZID=Europe/Berlin:20241118T193000
DTEND;TZID=Europe/Berlin:20241118T210000
LOCATION:Sinzig: Ev. Gemeindehaus Sinzig
SUMMARY:Pflanzen in der Bibel :: Was vermitteln uns Pflanzen in der Bibel?
URL:https://termine.ekir.de/veranstaltung_im_detail820489.html
END:VEVENT
END:VCALENDAR
