BEGIN:VCALENDAR
VERSION:2.0
PRODID:-//evangelische-termine.de//NONSGML kigkonsult.se iCalcreator 2.18//
CALSCALE:GREGORIAN
METHOD:PUBLISH
X-WR-CALNAME:iCal Evangelische-Termine 20.04.2026
X-WR-CALDESC:iCalender von Evangelische-Termine (20.04.2026)
X-WR-TIMEZONE:Europe/Berlin
X-MS-OLK-FORCEINSPECTOROPEN:TRUE
BEGIN:VTIMEZONE
TZID:Europe/Berlin
BEGIN:STANDARD
DTSTART:19701025T030000
TZOFFSETFROM:+0200
TZOFFSETTO:+0100
RRULE:FREQ=YEARLY;BYDAY=-1SU;BYMONTH=10
TZNAME:CET
END:STANDARD
BEGIN:DAYLIGHT
DTSTART:19700329T020000
TZOFFSETFROM:+0100
TZOFFSETTO:+0200
RRULE:FREQ=YEARLY;BYDAY=-1SU;BYMONTH=3
TZNAME:CEST
END:DAYLIGHT
END:VTIMEZONE
BEGIN:VEVENT
UID:20240917T091500-820490@evangelische-termine.de
DTSTAMP:20260420T003438Z
DESCRIPTION:\nKirchenkreis: überregional\nArt der Veranstaltung: Fortbildun
 gen / Seminare / Vorträge\nVeranstaltungsort: Ev. Gemeindehaus Koblenz\nSt
 einebirker Weg 1\n56072 Koblenz\nKurzbeschreibung / Untertitel: Workshop: 
 Nestel- oder Fühldecken für demenzkranke Patienten gemeinsam nähen\nAusfüh
 rliche Beschreibung: Demenzerkrankte Menschen sind oft sehr unruhig und zu
 pfen und zerren an sich selbst und allen möglichen Dingen herum. Ihre Händ
 e sehnen sich nach Beschäftigung\, sie wollen fühlen und greifen. Nestel- 
 bzw. Fühldecken können als Ablenkung dienen. Die Patienten können sich die
  Decke auf den Schoß legen und sie befühlen. Durch die Verwendung verschie
 denster Materialien werden der Tastsinn sowie die optischen Wahrnehmungen 
 (Farben\, Strukturen\, Formen) angesprochen und aktiviert.\nJe nach Motive
 n können auch Erinnerungen an frühere Hobbies\, Haustiere oder Alltagstäti
 gkeiten geweckt werden.\nDie Oberseite der Decke wird aus verschiedenen St
 offquadraten zusammengesetzt und nach Lust und Laune verziert (Knöpfe\, Re
 ißverschlüsse\, Bänder\, Schnallen\, Taschen\, Schleifen etc.).\nDie Rücks
 eite besteht aus einem Stück Stoff (z.B. alte Tischdecke\, Kissenbezugo.ä.
 ). Die Decke hat eine Größe von ca. 60 cm x 60 cm.\nIm Workshop schneiden 
 wir die Stoffstücke zu und fügen sie mit der Nähmaschine zusammen. Wenn In
 teresse besteht\, kann ein weiteres Nähtreffen verabredet werden. \nSie kö
 nnen für einen Angehörigen nähen oder die Decke einer Demenzstation schenk
 en. \nBitte mitbringen: Nähmaschine (Stromkabel nicht vergessen)\, Nähgarn
 \, Stoffschere\, Stoffreste aller Art\, Bänder\, Borten\, Knöpfe\, Reißver
 schlüsse\, Gardinenringe\, Wollfäden etc. Das Tauschen und Teilen von Stof
 fen mit anderen Teilnehmerinnen ist erlaubt und erwünscht.\nFörderbereich:
  Sonstiges\nReferent/in: Margit Büttner\, Pfarrerin i. R.\nAnsprechpartner
 /in - Leitung: Margit Büttner\nZusatzinformationen: Veranstalter ist Ev. K
 irchengemeinde Koblenz-Güls\nAnmeldung bis 10.09.2024 an margit.buettner@e
 kir.de
DTSTART;TZID=Europe/Berlin:20240917T091500
DTEND;TZID=Europe/Berlin:20240917T121500
LOCATION:Koblenz: Ev. Gemeindehaus Koblenz
SUMMARY:Bundesweiten Woche der Demenz :: Workshop: Nestel- oder Fühldecken 
 für demenzkranke Patienten gemeinsam nähen
URL:https://termine.ekir.de/veranstaltung_im_detail820490.html
END:VEVENT
END:VCALENDAR
