BEGIN:VCALENDAR
VERSION:2.0
PRODID:-//evangelische-termine.de//NONSGML kigkonsult.se iCalcreator 2.18//
CALSCALE:GREGORIAN
METHOD:PUBLISH
X-WR-CALNAME:iCal Evangelische-Termine 19.04.2026
X-WR-CALDESC:iCalender von Evangelische-Termine (19.04.2026)
X-WR-TIMEZONE:Europe/Berlin
X-MS-OLK-FORCEINSPECTOROPEN:TRUE
BEGIN:VTIMEZONE
TZID:Europe/Berlin
BEGIN:STANDARD
DTSTART:19701025T030000
TZOFFSETFROM:+0200
TZOFFSETTO:+0100
RRULE:FREQ=YEARLY;BYDAY=-1SU;BYMONTH=10
TZNAME:CET
END:STANDARD
BEGIN:DAYLIGHT
DTSTART:19700329T020000
TZOFFSETFROM:+0100
TZOFFSETTO:+0200
RRULE:FREQ=YEARLY;BYDAY=-1SU;BYMONTH=3
TZNAME:CEST
END:DAYLIGHT
END:VTIMEZONE
BEGIN:VEVENT
UID:20240118T093000-821026@evangelische-termine.de
DTSTAMP:20260419T211431Z
DESCRIPTION:\nKirchenkreis: überregional\nArt der Veranstaltung: Fortbildun
 gen / Seminare / Vorträge\nVeranstaltungsort: Ev. Erwachsenenbildungswerk 
 Rheinland-Süd e.V.\, Simmern\nHerzog-Reichard-Str. 30\n55469 Simmern\nKurz
 beschreibung / Untertitel: Entdecken Sie die Kunst des wirkungsvollen Spre
 chens! Lernen Sie in unserem Tagesworkshop wichtige Strukturmuster von Ste
 greifreden kennen und anwenden.\nAusführliche Beschreibung: Sie möchten Sp
 rechblockaden überwinden und freier kommunizieren? In diesem Workshop lern
 en und üben Sie\, spontan und überzeugend zu sprechen. Sie erkunden zwei w
 esentliche Strukturmuster von Stegreifreden: Zum einen machen Sie sich übe
 nd mit dem Aufbau unterschiedlicher Argumentationen vertraut. Zum anderen 
 erfahren Sie\, wie Sie durch das Erzählen von Geschichten Ihr Publikum emo
 tional erreichen und einprägsame Botschaften vermitteln können.\nDer Works
 hop richtet sich an Frauen im Beruf\, im Ehrenamt oder in einer Orientieru
 ngsphase\, die ihre Fähigkeiten im spontanen Reden ausbauen möchten\, sei 
 es für berufliche Präsentationen\, öffentliche Auftritte oder persönliche 
 Anlässe. Vorkenntnisse sind nicht erforderlich – nur die Bereitschaft\, si
 ch auf Neues einzulassen und aktiv mitzumachen!\nFörderbereich: Schlüsselq
 ualifikationen mit den Komponenten Sprachen und Medien\nReferent/in: Dr. M
 arion Krames\, Carola Schick\nAnsprechpartner/in - Leitung: Dr. Marion Kra
 mes\nZusatzinformationen: Anmeldung bis 10.01.2025\n: 
DTSTART;TZID=Europe/Berlin:20240118T093000
DTEND;TZID=Europe/Berlin:20240118T180000
LOCATION:Simmern: Ev. Erwachsenenbildungswerk Rheinland-Süd e.V.\, Simmern
SUMMARY:Stegreifrede leicht gemacht: Spontan überzeugen und begeistern :: E
 ntdecken Sie die Kunst des wirkungsvollen Sprechens!
URL:https://termine.ekir.de/veranstaltung_im_detail821026.html
END:VEVENT
END:VCALENDAR
