BEGIN:VCALENDAR
VERSION:2.0
PRODID:-//evangelische-termine.de//NONSGML kigkonsult.se iCalcreator 2.18//
CALSCALE:GREGORIAN
METHOD:PUBLISH
X-WR-CALNAME:iCal Evangelische-Termine 20.04.2026
X-WR-CALDESC:iCalender von Evangelische-Termine (20.04.2026)
X-WR-TIMEZONE:Europe/Berlin
X-MS-OLK-FORCEINSPECTOROPEN:TRUE
BEGIN:VTIMEZONE
TZID:Europe/Berlin
BEGIN:STANDARD
DTSTART:19701025T030000
TZOFFSETFROM:+0200
TZOFFSETTO:+0100
RRULE:FREQ=YEARLY;BYDAY=-1SU;BYMONTH=10
TZNAME:CET
END:STANDARD
BEGIN:DAYLIGHT
DTSTART:19700329T020000
TZOFFSETFROM:+0100
TZOFFSETTO:+0200
RRULE:FREQ=YEARLY;BYDAY=-1SU;BYMONTH=3
TZNAME:CEST
END:DAYLIGHT
END:VTIMEZONE
BEGIN:VEVENT
UID:20241122T190000-821031@evangelische-termine.de
DTSTAMP:20260419T230054Z
DESCRIPTION:\nKirchenkreis: überregional\nArt der Veranstaltung: Fortbildun
 gen / Seminare / Vorträge\nVeranstaltungsort: Augustinum Bad Neuenahr\nAm 
 Schwanenteich 1\n53474 Bad Neuenahr-Ahrweiler\nKurzbeschreibung / Untertit
 el: Vortrag mit anschließendem Gespräch mit der Philosophin\, Theologin un
 d Buchautorin „Melanie Wolfers“\nAusführliche Beschreibung: Diese Veransta
 ltung bietet den von der Flut und den noch immer anhaltenden Existenzsorge
 n betroffenen Bürgern sowie den vielen Menschen\, die diese schreckliche N
 acht  nicht verarbeiten können die Möglichkeit\, sich zu verbinden\, Unter
 stützung zu finden und ihre Geschichten zu teilen.\nFörderbereich: Gesells
 chaftliche und sozialpolitische Fragen \nReferent/in: Melanie Wolfers\nSpe
 akerin\, Philosophin\, Theologin\, Autorin\nArgon Verlag AVE GmbH\nAnsprec
 hpartner/in - Leitung: TelefonSeelsorge Bad Neuenahr-Ahrweiler\nZusatzinfo
 rmationen: Keine Anmeldung nötig!
DTSTART;TZID=Europe/Berlin:20241122T190000
DTEND;TZID=Europe/Berlin:20241122T203000
LOCATION:Bad Neuenahr-Ahrweiler: Augustinum Bad Neuenahr
SUMMARY:Zuversicht – die Kraft\, die an das Morgen glaubt :: Vortrag mit an
 schließendem Gespräch mit der Philosophin\, Theologin und Buchautorin „Mel
 anie Wolfers“
URL:https://termine.ekir.de/veranstaltung_im_detail821031.html
END:VEVENT
END:VCALENDAR
