BEGIN:VCALENDAR
VERSION:2.0
PRODID:-//evangelische-termine.de//NONSGML kigkonsult.se iCalcreator 2.18//
CALSCALE:GREGORIAN
METHOD:PUBLISH
X-WR-CALNAME:iCal Evangelische-Termine 20.04.2026
X-WR-CALDESC:iCalender von Evangelische-Termine (20.04.2026)
X-WR-TIMEZONE:Europe/Berlin
X-MS-OLK-FORCEINSPECTOROPEN:TRUE
BEGIN:VTIMEZONE
TZID:Europe/Berlin
BEGIN:STANDARD
DTSTART:19701025T030000
TZOFFSETFROM:+0200
TZOFFSETTO:+0100
RRULE:FREQ=YEARLY;BYDAY=-1SU;BYMONTH=10
TZNAME:CET
END:STANDARD
BEGIN:DAYLIGHT
DTSTART:19700329T020000
TZOFFSETFROM:+0100
TZOFFSETTO:+0200
RRULE:FREQ=YEARLY;BYDAY=-1SU;BYMONTH=3
TZNAME:CEST
END:DAYLIGHT
END:VTIMEZONE
BEGIN:VEVENT
UID:20240914T100000-821033@evangelische-termine.de
DTSTAMP:20260420T002330Z
DESCRIPTION:\nKirchenkreis: überregional\nArt der Veranstaltung: Fortbildun
 gen / Seminare / Vorträge\nVeranstaltungsort: Wildnis-Werkstatt Weltenbaum
 \nEcke Dhaunerstr./Brunnenstraße\n55606 Oberhausen\nKurzbeschreibung / Unt
 ertitel: Wildkräuter im Spätsommer\nAusführliche Beschreibung: Wildkräuter
  im September – zwischen Sommer und Herbst – kennenlernen\, sammeln und ha
 ndwerklich in Kräutersäckchen verarbeiten.\nBeim gemeinsamen Essen ist dan
 n Zeit zum Austausch.\n\nWichtig: witterungsangepasste Kleidung\, Becher o
 der Tasse\nFörderbereich: Sonstiges\nReferent/in: Heike Zerfaß und Alexand
 ra Fey\, Erzieherinnen und Wildnispädagoginnen\nKosten: 20\,– €\nZusatzinf
 ormationen: Anmeldung bis 06.09.2024\n: \nAnsprechpartner: Carola Schick e
 eb-sued@eeb-sued.de
DTSTART;TZID=Europe/Berlin:20240914T100000
DTEND;TZID=Europe/Berlin:20240914T140000
LOCATION:Oberhausen: Wildnis-Werkstatt Weltenbaum
SUMMARY:„Wildes Kräuterhandwerk“ :: Wildkräuter im September - zwischen Som
 mer und Herbst
URL:https://termine.ekir.de/veranstaltung_im_detail821033.html
END:VEVENT
END:VCALENDAR
