BEGIN:VCALENDAR
VERSION:2.0
PRODID:-//evangelische-termine.de//NONSGML kigkonsult.se iCalcreator 2.18//
CALSCALE:GREGORIAN
METHOD:PUBLISH
X-WR-CALNAME:iCal Evangelische-Termine 20.04.2026
X-WR-CALDESC:iCalender von Evangelische-Termine (20.04.2026)
X-WR-TIMEZONE:Europe/Berlin
X-MS-OLK-FORCEINSPECTOROPEN:TRUE
BEGIN:VTIMEZONE
TZID:Europe/Berlin
BEGIN:STANDARD
DTSTART:19701025T030000
TZOFFSETFROM:+0200
TZOFFSETTO:+0100
RRULE:FREQ=YEARLY;BYDAY=-1SU;BYMONTH=10
TZNAME:CET
END:STANDARD
BEGIN:DAYLIGHT
DTSTART:19700329T020000
TZOFFSETFROM:+0100
TZOFFSETTO:+0200
RRULE:FREQ=YEARLY;BYDAY=-1SU;BYMONTH=3
TZNAME:CEST
END:DAYLIGHT
END:VTIMEZONE
BEGIN:VEVENT
UID:20240916T090000-821036@evangelische-termine.de
DTSTAMP:20260420T001015Z
DESCRIPTION:\nKirchenkreis: überregional\nArt der Veranstaltung: Fortbildun
 gen / Seminare / Vorträge\nVeranstaltungsort: Zentrum für lebenslanges Ler
 nen – Rheinische Gesellschaft für Diakonie gGmbH\nMaiweg 150\n56841 Traben
 -Trarbach/Wolf\nKurzbeschreibung / Untertitel: Wie man skeptische Mütter u
 nd Väter motivieren kann' - Methodische Überlegungen zum Umgang mit „sogen
 annt unmotivierten“ Eltern\nAusführliche Beschreibung: Nicht selten scheit
 ert in der Jugendhilfe die Elternarbeit an der Bereitschaft von Müttern un
 d Vätern dabei mitzumachen. Wie aber können wir mit Eltern umgehen\, die u
 nserer Idee von Zusammenarbeit kritisch begegnen\, die sich auf Termine zu
 m Familiengespräch nur schwer einlassen können\, die Termine platzen lasse
 n\, die problematische Punkte in ihrem Erziehungsverhalten nicht einsehen 
 wollen?\nIn diesem Seminar werden deshalb Motivationskonzepte aus verschie
 denen Begründungszusammenhängen diskutiert und miteinander verknüpft\, die
  die Ablehnungsgründe der Eltern auf unterschiedlichen Ebenen der Kommunik
 ation verorten können und den Handlungskompetenzen der Professionellen auf
  der Inhalts-\, Beziehungs- und Prozessebene neue Impulse liefern.\nFörder
 bereich: Arbeitswelt- und berufsbezogene Weiterbildung\nReferent/in: Drs. 
 Jan Hesselink\nProf. Dr. Karl-Heinz Lindemann\nAnsprechpartner/in - Leitun
 g: Zentrum für lebenslanges Lernen\nKosten: 390\,– €\nZusatzinformationen:
  Anmeldung bis 10.08.2024\n\nZentrum für lebenslanges Lernen\nMaiweg 150\,
  56841 Traben-Trarbach\, Tel. 06541 7009-380\ninfo@zentrum-lebenslanges-le
 rnen.de
DTSTART;TZID=Europe/Berlin:20240916T090000
DTEND;TZID=Europe/Berlin:20240916T163000
LOCATION:Traben-Trarbach/Wolf: Zentrum für lebenslanges Lernen – Rheinische
  Gesellschaft für Diakonie gGmbH
SUMMARY:„Elternarbeit“ (2-tägig) :: Wie man skeptische Mütter und Väter mot
 ivieren kann' - Methodische Überlegungen zum Umgang mit „sogenannt unmotiv
 ierten“ Eltern 
URL:https://termine.ekir.de/veranstaltung_im_detail821036.html
END:VEVENT
END:VCALENDAR
