BEGIN:VCALENDAR
VERSION:2.0
PRODID:-//evangelische-termine.de//NONSGML kigkonsult.se iCalcreator 2.18//
CALSCALE:GREGORIAN
METHOD:PUBLISH
X-WR-CALNAME:iCal Evangelische-Termine 22.04.2026
X-WR-CALDESC:iCalender von Evangelische-Termine (22.04.2026)
X-WR-TIMEZONE:Europe/Berlin
X-MS-OLK-FORCEINSPECTOROPEN:TRUE
BEGIN:VTIMEZONE
TZID:Europe/Berlin
BEGIN:STANDARD
DTSTART:19701025T030000
TZOFFSETFROM:+0200
TZOFFSETTO:+0100
RRULE:FREQ=YEARLY;BYDAY=-1SU;BYMONTH=10
TZNAME:CET
END:STANDARD
BEGIN:DAYLIGHT
DTSTART:19700329T020000
TZOFFSETFROM:+0100
TZOFFSETTO:+0200
RRULE:FREQ=YEARLY;BYDAY=-1SU;BYMONTH=3
TZNAME:CEST
END:DAYLIGHT
END:VTIMEZONE
BEGIN:VEVENT
UID:20260426T100000-821436@evangelische-termine.de
DTSTAMP:20260422T160900Z
DESCRIPTION:\nVeranstaltung: Gottesdienst\nErgänzungen: anschl. Gemeindever
 sammlung\nOrt: Ev. Stadtkirche Solingen Mitte\nKirchplatz 14\n42651 Soling
 en\nIn der Fußgängerzone!\nInternetadresse (eigene Infos im Internet): htt
 ps://stadtkirche-solingen.de\nEmail: friederike.hoeroldt@ekir.de\nAnsprech
 partner: Team Stadtkirche\nPrediger/Predigerin: Team
DTSTART;TZID=Europe/Berlin:20260426T100000
DTEND;TZID=Europe/Berlin:20260426T110000
LOCATION:Solingen: Ev. Stadtkirche Solingen Mitte
SUMMARY:Gemeindegottesdienst
URL:https://termine.ekir.de/veranstaltung_im_detail821436.html
END:VEVENT
END:VCALENDAR
