BEGIN:VCALENDAR
VERSION:2.0
PRODID:-//evangelische-termine.de//NONSGML kigkonsult.se iCalcreator 2.18//
CALSCALE:GREGORIAN
METHOD:PUBLISH
X-WR-CALNAME:iCal Evangelische-Termine 20.04.2026
X-WR-CALDESC:iCalender von Evangelische-Termine (20.04.2026)
X-WR-TIMEZONE:Europe/Berlin
X-MS-OLK-FORCEINSPECTOROPEN:TRUE
BEGIN:VTIMEZONE
TZID:Europe/Berlin
BEGIN:STANDARD
DTSTART:19701025T030000
TZOFFSETFROM:+0200
TZOFFSETTO:+0100
RRULE:FREQ=YEARLY;BYDAY=-1SU;BYMONTH=10
TZNAME:CET
END:STANDARD
BEGIN:DAYLIGHT
DTSTART:19700329T020000
TZOFFSETFROM:+0100
TZOFFSETTO:+0200
RRULE:FREQ=YEARLY;BYDAY=-1SU;BYMONTH=3
TZNAME:CEST
END:DAYLIGHT
END:VTIMEZONE
BEGIN:VEVENT
UID:20241011T200000-821582@evangelische-termine.de
DTSTAMP:20260420T001015Z
DESCRIPTION:\nKirchenkreis: überregional\nArt der Veranstaltung: Freizeiten
  / Reisen\nVeranstaltungsort: Ev. Erwachsenenbildungswerk Rheinland-Süd e.
 V.\, Simmern\nHerzog-Reichard-Str. 30\n55469 Simmern\nKurzbeschreibung / U
 ntertitel: Studienreise Namibia\nAusführliche Beschreibung: Der Titel „Nam
 ibia zwischen gestern und heute.“\, zeigt worum es in dieser Reise geht. 
 \nDie Geschichte und Gegenwart der früheren deutschen Kolonie Deutsch-Südw
 est-Afrika\, heute Namibia\, kennenlernen. Die vielen Begegnungen während 
 der Reise geben einen politischen und gesellschaftliche Einblick in die En
 twicklungen im Süden Afrikas im Zusammenhang mit der deutschen Kolonial­ge
 schichte und ihren rassistisch-ideologischen Hintergründen. Ebenfalls soll
 en sie helfen die aktuellen Entwicklungen im südlichen Afrika einzuordnen.
  Wir freuen uns auf viele Begegnungen und Eindrücke.\nInternetadresse (eig
 ene Infos im Internet): https://eeb-sued.de/studienfahrt-namibia-2024/\nFö
 rderbereich: Sonstiges\nReferent/in: Friedrich Mayer\, Pfarrer i.R. und Ki
 rsten Arnswald\, Pfarrerin und Leitung des eeb\nAnsprechpartner/in - Leitu
 ng: Kirsten Arnswald\,\nKosten: Reisepreis pro Person: 3.830 € (im DZ)\, E
 Z-Zuschlag: 170\,– €\nZusatzinformationen: Im Reisepreis eingeschlossen si
 nd die folgenden Leistungen:\n\n>	Flug Lufthansa Economy-Class inkl. Flugha
 fen- und Sicherheitsgebühren\n>	Reisebus\, klimatisiert \n>	13 Übernachtung 
 im Doppelzimmer mit Halbpension \n        (Frühstück und Abendessen)\n>	Ein
 heimischer deutschsprachiger Guide\n>	Eintrittspreise\n\nAnmeldung unter ee
 b-sued.de\nAnsprechpartner: Kirsten Arnswald karnswald@eeb-sued.de\n06761/
 7019
DTSTART;TZID=Europe/Berlin:20241011T200000
DTEND;TZID=Europe/Berlin:20241026T210000
LOCATION:Simmern: Ev. Erwachsenenbildungswerk Rheinland-Süd e.V.\, Simmern
SUMMARY:Namibia zwischen gestern und heute. Ein Land im Aufbruch – Bildungs
 - und Begegnungsreise
URL:https://termine.ekir.de/veranstaltung_im_detail821582.html
END:VEVENT
END:VCALENDAR
