BEGIN:VCALENDAR
VERSION:2.0
PRODID:-//evangelische-termine.de//NONSGML kigkonsult.se iCalcreator 2.18//
CALSCALE:GREGORIAN
METHOD:PUBLISH
X-WR-CALNAME:iCal Evangelische-Termine 20.04.2026
X-WR-CALDESC:iCalender von Evangelische-Termine (20.04.2026)
X-WR-TIMEZONE:Europe/Berlin
X-MS-OLK-FORCEINSPECTOROPEN:TRUE
BEGIN:VTIMEZONE
TZID:Europe/Berlin
BEGIN:STANDARD
DTSTART:19701025T030000
TZOFFSETFROM:+0200
TZOFFSETTO:+0100
RRULE:FREQ=YEARLY;BYDAY=-1SU;BYMONTH=10
TZNAME:CET
END:STANDARD
BEGIN:DAYLIGHT
DTSTART:19700329T020000
TZOFFSETFROM:+0100
TZOFFSETTO:+0200
RRULE:FREQ=YEARLY;BYDAY=-1SU;BYMONTH=3
TZNAME:CEST
END:DAYLIGHT
END:VTIMEZONE
BEGIN:VEVENT
UID:20241208T110000-821840@evangelische-termine.de
DTSTAMP:20260419T225932Z
DESCRIPTION:\nKirchenkreis: überregional\nArt der Veranstaltung: Fortbildun
 gen / Seminare / Vorträge\nVeranstaltungsort: Theologisches Quartett Trier
  e.V.\nDomfreihof 1b\n54290 Trier\nKurzbeschreibung / Untertitel: Der unüb
 ersehbare Wandel des deutschen Parteiensystems\nAusführliche Beschreibung:
  Ein Wandel des deutschen Parteiensystems ist unübersehbar: Eine zunehmend
 e Fragmentierung und Polarisierung sowie eine deutlich erhöhte Volatilität
  im Wählerverhalten sind klare Anzeichen. Parteien mit einzelnen Schwerpun
 ktsetzungen wie der Betonung eines Themas oder der medialen Hervorhebung e
 inzelner Stimmungen oder Persönlichkeiten haben es deutlich leichter. Wohi
 n steuert das Parteiensystem? Welche Ursachen des Wandels sind auszumachen
 ? Welche Stabilitätsanker existieren? Der Vortrag analysiert die Folgen de
 r Europawahl und der Landtagswahlen 2024 für die deutsche Parteiendemokrat
 ie und blickt voraus auf die Bundestagswahl 2025.\nUwe Jun\, Jg. 1963\, le
 hrt Politikwissenschaft an der Universität Trier und hat seit 2005 die Pro
 fessur „Westliche Demokratien – Das politische System Deutschlands“ inne. 
 Seit 2021 ist er Direktor des Trierer Instituts für Demokratie und Parteie
 nforschung (TIDuP).\nInternetadresse (eigene Infos im Internet): http://ww
 w.tqt-trier.de\nFörderbereich: Politische Bildung\nReferent/in: Prof. Dr. 
 Uwe Jun\, Trier\nAnsprechpartner/in - Leitung: Theologisches Quartett Trie
 r e.V.\,\nReinhold Hoffmann\, Vorstandssprecher\nhoffmann@tqt-trier.de\nKo
 sten: 7\,– €\, ermäßigt 5\,– €\nZusatzinformationen: In Kooperation mit:\n
 Förderverein Autobahnkirche St. Paul\, Wittlich \nLeserinitiative Publik-F
 orum e.V.\nSparkasse Trier\nVolkshochschule der Stadt Trier
DTSTART;TZID=Europe/Berlin:20241208T110000
DTEND;TZID=Europe/Berlin:20241208T120000
LOCATION:Trier: Theologisches Quartett Trier e.V.
SUMMARY:Nach den Wahlen: Wie geht es der Demokratie? :: Der unübersehbare W
 andel des deutschen Parteiensystems
URL:https://termine.ekir.de/veranstaltung_im_detail821840.html
END:VEVENT
END:VCALENDAR
