BEGIN:VCALENDAR
VERSION:2.0
PRODID:-//evangelische-termine.de//NONSGML kigkonsult.se iCalcreator 2.18//
CALSCALE:GREGORIAN
METHOD:PUBLISH
X-WR-CALNAME:iCal Evangelische-Termine 20.04.2026
X-WR-CALDESC:iCalender von Evangelische-Termine (20.04.2026)
X-WR-TIMEZONE:Europe/Berlin
X-MS-OLK-FORCEINSPECTOROPEN:TRUE
BEGIN:VTIMEZONE
TZID:Europe/Berlin
BEGIN:STANDARD
DTSTART:19701025T030000
TZOFFSETFROM:+0200
TZOFFSETTO:+0100
RRULE:FREQ=YEARLY;BYDAY=-1SU;BYMONTH=10
TZNAME:CET
END:STANDARD
BEGIN:DAYLIGHT
DTSTART:19700329T020000
TZOFFSETFROM:+0100
TZOFFSETTO:+0200
RRULE:FREQ=YEARLY;BYDAY=-1SU;BYMONTH=3
TZNAME:CEST
END:DAYLIGHT
END:VTIMEZONE
BEGIN:VEVENT
UID:20241006T110000-821893@evangelische-termine.de
DTSTAMP:20260420T001041Z
DESCRIPTION:\nKirchenkreis: überregional\nArt der Veranstaltung: Fortbildun
 gen / Seminare / Vorträge\nVeranstaltungsort: Theologisches Quartett Trier
  e.V.\nDomfreihof 1b\n54290 Trier\nKurzbeschreibung / Untertitel: Nachhalt
 ige Landwirtschaft – sichere Ernährung\nAusführliche Beschreibung: Die Tra
 nsformation der industriellen Variante der Landwirtschaft hin zu einer nac
 hhaltigen Wirtschaftsweise ist notwendig\, weil die „konventionelle“ Agrar
 wirtschaft große Schäden anrichtet: Sie bedroht die Zukunftsaussichten uns
 erer Zivilisation und die Grundlagen ihrer eigenen Existenz. Der Vortrag z
 eigt Wege auf\, die deutsche Landwirtschaft nachhaltig zu entwickeln\, ben
 ennt wichtige gesellschaftliche Akteure\, die diese „große Transformation“
  vollziehen und skizziert eine „Hybrid“-Landwirtschaft als einen möglichen
  Weg aus der aktuellen Krise der industriellen Agrarwirtschaft.\nNorbert F
 ranz\, Jg. 1954\, hat an den Universitäten Trier und Luxemburg Neuere und 
 Neueste Geschichte gelehrt. Hans-Jürgen Müller\, Jg. 1957\, ist Agrarwisse
 nschaftler\, Bio-Landwirt und Abgeordneter des Hessischen Landtags.\nInter
 netadresse (eigene Infos im Internet): http://www.tqt-trier.de\nFörderbere
 ich: Gesellschaft\, Politik und Wirtschaft\nReferent/in: Prof. Dr. Norbert
  Franz und Hans-Jürgen Müller\, MdL\nAnsprechpartner/in - Leitung: Theolog
 isches Quartett Trier e.V.\,\nReinhold Hoffmann\, Vorstandssprecher\nhoffm
 ann@tqt-trier.de\nKosten: 7\,– €\, ermäßigt 5\,– €\nZusatzinformationen: I
 n Kooperation mit:\nFörderverein Autobahnkirche St. Paul\, Wittlich \nLese
 rinitiative Publik-Forum e.V.\nSparkasse Trier\nVolkshochschule der Stadt 
 Trier
DTSTART;TZID=Europe/Berlin:20241006T110000
DTEND;TZID=Europe/Berlin:20241006T120000
LOCATION:Trier: Theologisches Quartett Trier e.V.
SUMMARY:Wie wollen wir uns ernähren? :: Nachhaltige Landwirtschaft – sicher
 e Ernährung
URL:https://termine.ekir.de/veranstaltung_im_detail821893.html
END:VEVENT
END:VCALENDAR
