BEGIN:VCALENDAR
VERSION:2.0
PRODID:-//evangelische-termine.de//NONSGML kigkonsult.se iCalcreator 2.18//
CALSCALE:GREGORIAN
METHOD:PUBLISH
X-WR-CALNAME:iCal Evangelische-Termine 20.04.2026
X-WR-CALDESC:iCalender von Evangelische-Termine (20.04.2026)
X-WR-TIMEZONE:Europe/Berlin
X-MS-OLK-FORCEINSPECTOROPEN:TRUE
BEGIN:VTIMEZONE
TZID:Europe/Berlin
BEGIN:STANDARD
DTSTART:19701025T030000
TZOFFSETFROM:+0200
TZOFFSETTO:+0100
RRULE:FREQ=YEARLY;BYDAY=-1SU;BYMONTH=10
TZNAME:CET
END:STANDARD
BEGIN:DAYLIGHT
DTSTART:19700329T020000
TZOFFSETFROM:+0100
TZOFFSETTO:+0200
RRULE:FREQ=YEARLY;BYDAY=-1SU;BYMONTH=3
TZNAME:CEST
END:DAYLIGHT
END:VTIMEZONE
BEGIN:VEVENT
UID:20241005T180000-821894@evangelische-termine.de
DTSTAMP:20260420T001015Z
DESCRIPTION:\nKirchenkreis: überregional\nArt der Veranstaltung: Fortbildun
 gen / Seminare / Vorträge\nVeranstaltungsort: Autobahn- und Radwegskirche 
 St. Paul in Wittlich\nArnold-Janssen-Straße 1\n54516 Wittlich\nKurzbeschre
 ibung / Untertitel: Nachhaltige Landwirtschaft – sichere Ernährung\nAusfüh
 rliche Beschreibung: Die Transformation der industriellen Variante der Lan
 dwirtschaft hin zu einer nachhaltigen Wirtschaftsweise ist notwendig\, wei
 l die „konventionelle“ Agrarwirtschaft große Schäden anrichtet: Sie bedroh
 t die Zukunftsaussichten unserer Zivilisation und die Grundlagen ihrer eig
 enen Existenz. Der Vortrag zeigt Wege auf\, die deutsche Landwirtschaft na
 chhaltig zu entwickeln\, benennt wichtige gesellschaftliche Akteure\, die 
 diese „große Transformation“ vollziehen und skizziert eine „Hybrid“-Landwi
 rtschaft als einen möglichen Weg aus der aktuellen Krise der industriellen
  Agrarwirtschaft.\nNorbert Franz\, Jg. 1954\, hat an den Universitäten Tri
 er und Luxemburg Neuere und Neueste Geschichte gelehrt. Hans-Jürgen Müller
 \, Jg. 1957\, ist Agrarwissenschaftler\, Bio-Landwirt und Abgeordneter des
  Hessischen Landtags.\nInternetadresse (eigene Infos im Internet): https:/
 /autobahnkirche-wittlich.mobirisesite.com/Samstagabendgespraeche.html\nFör
 derbereich: Gesellschaft\, Politik und Wirtschaft\nReferent/in: Prof. Dr. 
 Norbert Franz und Hans-Jürgen Müller\, MdL\nAnsprechpartner/in - Leitung: 
 Förderverein Autobahnkirche St. Paul Wittlich e.V.\nDieter Burgard\ninfo@a
 utobahnkirche-stpaul.de\nKosten: kostenfrei\nZusatzinformationen: In Koope
 ration mit:\nTheologisches Quartett Trier e.V.\nLeserinitiative Publik-For
 um e.V.\nSparkasse Trier\nVolkshochschule der Stadt Trier
DTSTART;TZID=Europe/Berlin:20241005T180000
DTEND;TZID=Europe/Berlin:20241005T190000
LOCATION:Wittlich: Autobahn- und Radwegskirche St. Paul in Wittlich
SUMMARY:Wie wollen wir uns ernähren? :: Nachhaltige Landwirtschaft – sicher
 e Ernährung
URL:https://termine.ekir.de/veranstaltung_im_detail821894.html
END:VEVENT
END:VCALENDAR
