BEGIN:VCALENDAR
VERSION:2.0
PRODID:-//evangelische-termine.de//NONSGML kigkonsult.se iCalcreator 2.18//
CALSCALE:GREGORIAN
METHOD:PUBLISH
X-WR-CALNAME:iCal Evangelische-Termine 20.04.2026
X-WR-CALDESC:iCalender von Evangelische-Termine (20.04.2026)
X-WR-TIMEZONE:Europe/Berlin
X-MS-OLK-FORCEINSPECTOROPEN:TRUE
BEGIN:VTIMEZONE
TZID:Europe/Berlin
BEGIN:STANDARD
DTSTART:19701025T030000
TZOFFSETFROM:+0200
TZOFFSETTO:+0100
RRULE:FREQ=YEARLY;BYDAY=-1SU;BYMONTH=10
TZNAME:CET
END:STANDARD
BEGIN:DAYLIGHT
DTSTART:19700329T020000
TZOFFSETFROM:+0100
TZOFFSETTO:+0200
RRULE:FREQ=YEARLY;BYDAY=-1SU;BYMONTH=3
TZNAME:CEST
END:DAYLIGHT
END:VTIMEZONE
BEGIN:VEVENT
UID:20241102T180000-821896@evangelische-termine.de
DTSTAMP:20260420T000923Z
DESCRIPTION:\nKirchenkreis: überregional\nArt der Veranstaltung: Fortbildun
 gen / Seminare / Vorträge\nVeranstaltungsort: Autobahn- und Radwegskirche 
 St. Paul in Wittlich\nArnold-Janssen-Straße 1\n54516 Wittlich\nKurzbeschre
 ibung / Untertitel: Wo steht die katholische Kirche?\nAusführliche Beschre
 ibung: Die römisch-katholische Kirche ist in schlechter Verfassung. Aber s
 ie wird gebraucht: für die Verkündigung des Evangeliums und für die Solida
 rität in der Gesellschaft. Deshalb ist weltweit eine Bewegung in Fahrt gek
 ommen\, deren Leitwort „Synodalität“ heißt. Zur katholischen Kirche werden
  immer der Papst und die Bischöfe gehören. Aber das Kirchenvolk braucht me
 hr Rechte: Partizipation\, Transparenz und Rechen-schaftspflichten müssen 
 umfassend garantiert werden. Wie das geht\, wird an vielen Orten erprobt u
 nd auf der Weltsynode beraten. Deutschland liefert mit dem „Sy-nodalen Weg
 ” ein gutes Beispiel\, das andernorts nachgeahmt\, aber vom Vatikan immer 
 wieder ausgebremst wird. Es entwickelt sich allerdings weiter: lokal\, reg
 ional\, national und hoffentlich auch bald weltweit.\nThomas Söding\, Jg. 
 1956\, ist Seniorprofessor für Exegese des Neuen Testaments an der Univers
 ität Bochum\, Vizepräsident des Zentralkomitees der deutschen Katholiken\,
  Präsidiumsmitglied des Synodalen Weges und (als Nicht-Kleriker) theologis
 cher Berater der Weltsynode in Rom.\nInternetadresse (eigene Infos im Inte
 rnet): https://autobahnkirche-wittlich.mobirisesite.com/Samstagabendgespra
 eche.html\nFörderbereich: Gesellschaft\, Politik und Wirtschaft\nReferent/
 in: Prof. Dr. Thomas Söding\nAnsprechpartner/in - Leitung: Förderverein Au
 tobahnkirche St. Paul Wittlich e.V.\nDieter Burgard\ninfo@autobahnkirche-s
 tpaul.de\nKosten: kostenfrei\nZusatzinformationen: In Kooperation mit:\nTh
 eologisches Quartett Trier e.V.\nLeserinitiative Publik-Forum e.V.\nSparka
 sse Trier\nVolkshochschule der Stadt Trier
DTSTART;TZID=Europe/Berlin:20241102T180000
DTEND;TZID=Europe/Berlin:20241102T190000
LOCATION:Wittlich: Autobahn- und Radwegskirche St. Paul in Wittlich
SUMMARY:Katholische Kirche und Synodaler Weg: Was nun? :: Wo steht die kath
 olische Kirche?
URL:https://termine.ekir.de/veranstaltung_im_detail821896.html
END:VEVENT
END:VCALENDAR
