BEGIN:VCALENDAR
VERSION:2.0
PRODID:-//evangelische-termine.de//NONSGML kigkonsult.se iCalcreator 2.18//
CALSCALE:GREGORIAN
METHOD:PUBLISH
X-WR-CALNAME:iCal Evangelische-Termine 20.04.2026
X-WR-CALDESC:iCalender von Evangelische-Termine (20.04.2026)
X-WR-TIMEZONE:Europe/Berlin
X-MS-OLK-FORCEINSPECTOROPEN:TRUE
BEGIN:VTIMEZONE
TZID:Europe/Berlin
BEGIN:STANDARD
DTSTART:19701025T030000
TZOFFSETFROM:+0200
TZOFFSETTO:+0100
RRULE:FREQ=YEARLY;BYDAY=-1SU;BYMONTH=10
TZNAME:CET
END:STANDARD
BEGIN:DAYLIGHT
DTSTART:19700329T020000
TZOFFSETFROM:+0100
TZOFFSETTO:+0200
RRULE:FREQ=YEARLY;BYDAY=-1SU;BYMONTH=3
TZNAME:CEST
END:DAYLIGHT
END:VTIMEZONE
BEGIN:VEVENT
UID:20241103T110000-821897@evangelische-termine.de
DTSTAMP:20260420T000853Z
DESCRIPTION:\nKirchenkreis: überregional\nArt der Veranstaltung: Fortbildun
 gen / Seminare / Vorträge\nVeranstaltungsort: Theologisches Quartett Trier
  e.V.\nDomfreihof 1b\n54290 Trier\nKurzbeschreibung / Untertitel: Wo steht
  die katholische Kirche?\nAusführliche Beschreibung: Die römisch-katholisc
 he Kirche ist in schlechter Verfassung. Aber sie wird gebraucht: für die V
 erkündigung des Evangeliums und für die Solidarität in der Gesellschaft. D
 eshalb ist weltweit eine Bewegung in Fahrt gekommen\, deren Leitwort „Syno
 dalität“ heißt. Zur ka-tholischen Kirche werden immer der Papst und die Bi
 schöfe gehören. Aber das Kirchenvolk braucht mehr Rechte: Partizipation\, 
 Transparenz und Rechen-schaftspflichten müssen umfassend garantiert werden
 . Wie das geht\, wird an vielen Orten erprobt und auf der Weltsynode berat
 en. Deutschland liefert mit dem „Sy-nodalen Weg” ein gutes Beispiel\, das 
 andernorts nachgeahmt\, aber vom Vatikan immer wieder ausgebremst wird. Es
  entwickelt sich allerdings weiter: lokal\, regional\, national und hoffen
 tlich auch bald weltweit.\nThomas Söding\, Jg. 1956\, ist Seniorprofessor 
 für Exegese des Neuen Testaments an der Universität Bochum\, Vizepräsident
  des Zentralkomitees der deutschen Katholiken\, Präsidiumsmitglied des Syn
 odalen Weges und (als Nicht-Kleriker) theologischer Berater der Weltsynode
  in Rom.\nInternetadresse (eigene Infos im Internet): http://www.tqt-trier
 .de\nFörderbereich: Gesellschaft\, Politik und Wirtschaft\nReferent/in: Pr
 of. Dr. Thomas Söding\nAnsprechpartner/in - Leitung: Theologisches Quartet
 t Trier e.V.\,\nReinhold Hoffmann\, Vorstandssprecher\nhoffmann@tqt-trier.
 de\nKosten: 7\,– €\, ermäßigt 5\,– €\nZusatzinformationen: In Kooperation 
 mit:\nFörderverein Autobahnkirche St. Paul\, Wittlich \nLeserinitiative Pu
 blik-Forum e.V.\nSparkasse Trier\nVolkshochschule der Stadt Trier
DTSTART;TZID=Europe/Berlin:20241103T110000
DTEND;TZID=Europe/Berlin:20241103T120000
LOCATION:Trier: Theologisches Quartett Trier e.V.
SUMMARY:Katholische Kirche und Synodaler Weg: Was nun? :: Wo steht die kath
 olische Kirche?
URL:https://termine.ekir.de/veranstaltung_im_detail821897.html
END:VEVENT
END:VCALENDAR
