BEGIN:VCALENDAR
VERSION:2.0
PRODID:-//evangelische-termine.de//NONSGML kigkonsult.se iCalcreator 2.18//
CALSCALE:GREGORIAN
METHOD:PUBLISH
X-WR-CALNAME:iCal Evangelische-Termine 20.04.2026
X-WR-CALDESC:iCalender von Evangelische-Termine (20.04.2026)
X-WR-TIMEZONE:Europe/Berlin
X-MS-OLK-FORCEINSPECTOROPEN:TRUE
BEGIN:VTIMEZONE
TZID:Europe/Berlin
BEGIN:STANDARD
DTSTART:19701025T030000
TZOFFSETFROM:+0200
TZOFFSETTO:+0100
RRULE:FREQ=YEARLY;BYDAY=-1SU;BYMONTH=10
TZNAME:CET
END:STANDARD
BEGIN:DAYLIGHT
DTSTART:19700329T020000
TZOFFSETFROM:+0100
TZOFFSETTO:+0200
RRULE:FREQ=YEARLY;BYDAY=-1SU;BYMONTH=3
TZNAME:CEST
END:DAYLIGHT
END:VTIMEZONE
BEGIN:VEVENT
UID:20241207T180000-821898@evangelische-termine.de
DTSTAMP:20260419T225943Z
DESCRIPTION:\nKirchenkreis: überregional\nArt der Veranstaltung: Fortbildun
 gen / Seminare / Vorträge\nVeranstaltungsort: Autobahn- und Radwegskirche 
 St. Paul in Wittlich\nArnold-Janssen-Straße 1\n54516 Wittlich\nKurzbeschre
 ibung / Untertitel: Der unübersehbare Wandel des deutschen Parteiensystems
 \nAusführliche Beschreibung: Ein Wandel des deutschen Parteiensystems ist 
 unübersehbar: Eine zunehmende Fragmentierung und Polarisierung sowie eine 
 deutlich erhöhte Volatilität im Wählerverhalten sind klare Anzeichen. Part
 eien mit einzelnen Schwerpunktsetzungen wie der Betonung eines Themas oder
  der medialen Hervorhebung einzelner Stimmungen oder Persönlichkeiten habe
 n es deutlich leichter. Wohin steuert das Parteiensystem? Welche Ursachen 
 des Wandels sind auszumachen? Welche Stabilitätsanker existieren? Der Vort
 rag analysiert die Folgen der Europawahl und der Landtagswahlen 2024 für d
 ie deutsche Parteiendemokratie und blickt voraus auf die Bundestagswahl 20
 25.\nUwe Jun\, Jg. 1963\, lehrt Politikwissenschaft an der Universität Tri
 er und hat seit 2005 die Professur „Westliche Demokratien – Das politische
  System Deutschlands“ inne. Seit 2021 ist er Direktor des Trie-rer Institu
 ts für Demokratie und Parteienforschung (TIDuP).\nInternetadresse (eigene 
 Infos im Internet): https://autobahnkirche-wittlich.mobirisesite.com/Samst
 agabendgespraeche.html\nFörderbereich: Gesellschaft\, Politik und Wirtscha
 ft\nReferent/in: Prof. Dr. Uwe Jun\, Trier\nAnsprechpartner/in - Leitung: 
 Förderverein Autobahnkirche St. Paul Wittlich e.V.\nDieter Burgard\ninfo@a
 utobahnkirche-stpaul.de\nKosten: kostenfrei\nZusatzinformationen: In Koope
 ration mit:\nTheologisches Quartett Trier e.V.\nLeserinitiative Publik-For
 um e.V.\nSparkasse Trier\nVolkshochschule der Stadt Trier
DTSTART;TZID=Europe/Berlin:20241207T180000
DTEND;TZID=Europe/Berlin:20241207T190000
LOCATION:Wittlich: Autobahn- und Radwegskirche St. Paul in Wittlich
SUMMARY:Nach den Wahlen: Wie geht es der Demokratie? :: Der unübersehbare W
 andel des deutschen Parteiensystems
URL:https://termine.ekir.de/veranstaltung_im_detail821898.html
END:VEVENT
END:VCALENDAR
