BEGIN:VCALENDAR
VERSION:2.0
PRODID:-//evangelische-termine.de//NONSGML kigkonsult.se iCalcreator 2.18//
CALSCALE:GREGORIAN
METHOD:PUBLISH
X-WR-CALNAME:iCal Evangelische-Termine 20.04.2026
X-WR-CALDESC:iCalender von Evangelische-Termine (20.04.2026)
X-WR-TIMEZONE:Europe/Berlin
X-MS-OLK-FORCEINSPECTOROPEN:TRUE
BEGIN:VTIMEZONE
TZID:Europe/Berlin
BEGIN:STANDARD
DTSTART:19701025T030000
TZOFFSETFROM:+0200
TZOFFSETTO:+0100
RRULE:FREQ=YEARLY;BYDAY=-1SU;BYMONTH=10
TZNAME:CET
END:STANDARD
BEGIN:DAYLIGHT
DTSTART:19700329T020000
TZOFFSETFROM:+0100
TZOFFSETTO:+0200
RRULE:FREQ=YEARLY;BYDAY=-1SU;BYMONTH=3
TZNAME:CEST
END:DAYLIGHT
END:VTIMEZONE
BEGIN:VEVENT
UID:20240927T190000-822438@evangelische-termine.de
DTSTAMP:20260420T001047Z
DESCRIPTION:\nKirchenkreis: An Nahe und Glan\nArt der Veranstaltung: Fortbi
 ldungen / Seminare / Vorträge\nVeranstaltungsort: BRÜCKE\, das Gemeindehau
 s der Ev. Kirchengemeinde Becherbach\nIm Winkel 2\n55608 Becherbach bei Ki
 rn\nKurzbeschreibung / Untertitel: Ein Einblick in die Herkunft unserer Ge
 sangbuchkultur mit Blick auf das\, was Gesangbücher für den Lebensalltag b
 edeuten können\; mit vielen praktischen\nAusführliche Beschreibung: Vor 50
 0 Jahren\, 1524\, erschienen die ersten evangelischen Gesangbücher. Martin
  Luther rief dazu auf\, neue evangelische Lieder zu schreiben und zu samme
 ln\, denn mit dem Singen sollte das Evangelium unter die Leute gebracht we
 rden. Seitdem wurde das Gesangbuch für viele Christenmenschen zum Grundbuc
 h ihres Glaubens und zum festen Bestandteil ihres Leben in Alltag und Gott
 esdienst. \nWir gehen an diesem Abend der Geschichte der evangelischen Ges
 angbücher nach\, hören von den bedeutendsten Liederdichtern\, probieren di
 e Lieder selbst aus und fragen nach der möglichen Bedeutung des Gesangbuch
 s für unseren Lebensalltag.\nFörderbereich: Religiöse Bildung\, Religionen
 \, Theologie\, Ethik\, Grenzfragen\nReferent/in: Kirsten Arnswald\, Pfarre
 rin\, Leiterin eeb\nMechthild Mayer\, Kantorin\nAnsprechpartner/in - Leitu
 ng: Kirsten Arnswald\nKosten: kostenfrei\nZusatzinformationen: Keine Anmel
 dung erforderlich.\nAnsprechpartner: Kirsten Arnswald karnswald@eeb-sued.d
 e\n06761/7019
DTSTART;TZID=Europe/Berlin:20240927T190000
DTEND;TZID=Europe/Berlin:20240927T210000
LOCATION:Becherbach bei Kirn: BRÜCKE\, das Gemeindehaus der Ev. Kirchengeme
 inde Becherbach
SUMMARY:500 Jahre evangelisches Gesangbuch – Entdeckungen zur Geschichte un
 d Gegenwart mit Bildern und Musik :: Ein Einblick in die Herkunft unserer 
 Gesangbuchkultur mit Blick auf das\, was Gesangbücher für den Lebensalltag
  bedeuten können.
URL:https://termine.ekir.de/veranstaltung_im_detail822438.html
END:VEVENT
END:VCALENDAR
